BEGIN:VCALENDAR
VERSION:2.0
PRODID:-//SAMAA - ECPv6.15.17.1//NONSGML v1.0//EN
CALSCALE:GREGORIAN
METHOD:PUBLISH
X-WR-CALNAME:SAMAA
X-ORIGINAL-URL:https://www.samaa.org.za
X-WR-CALDESC:Events for SAMAA
REFRESH-INTERVAL;VALUE=DURATION:PT1H
X-Robots-Tag:noindex
X-PUBLISHED-TTL:PT1H
BEGIN:VTIMEZONE
TZID:Europe/Helsinki
BEGIN:DAYLIGHT
TZOFFSETFROM:+0200
TZOFFSETTO:+0300
TZNAME:EEST
DTSTART:20250330T010000
END:DAYLIGHT
BEGIN:STANDARD
TZOFFSETFROM:+0300
TZOFFSETTO:+0200
TZNAME:EET
DTSTART:20251026T010000
END:STANDARD
BEGIN:DAYLIGHT
TZOFFSETFROM:+0200
TZOFFSETTO:+0300
TZNAME:EEST
DTSTART:20260329T010000
END:DAYLIGHT
BEGIN:STANDARD
TZOFFSETFROM:+0300
TZOFFSETTO:+0200
TZNAME:EET
DTSTART:20261025T010000
END:STANDARD
BEGIN:DAYLIGHT
TZOFFSETFROM:+0200
TZOFFSETTO:+0300
TZNAME:EEST
DTSTART:20270328T010000
END:DAYLIGHT
BEGIN:STANDARD
TZOFFSETFROM:+0300
TZOFFSETTO:+0200
TZNAME:EET
DTSTART:20271031T010000
END:STANDARD
END:VTIMEZONE
BEGIN:VEVENT
DTSTART;TZID=Europe/Helsinki:20260904T080000
DTEND;TZID=Europe/Helsinki:20260906T170000
DTSTAMP:20260420T215829
CREATED:20260226T090832Z
LAST-MODIFIED:20260226T090833Z
UID:8658-1788508800-1788714000@www.samaa.org.za
SUMMARY:Middelburg Jet Fly-in
DESCRIPTION:Contact: Phillip Lewis 082-727-8425Middelburg Airfield
URL:https://www.samaa.org.za/event/middelburg-jet-fly-in/
END:VEVENT
BEGIN:VEVENT
DTSTART;TZID=Europe/Helsinki:20260905T080000
DTEND;TZID=Europe/Helsinki:20260905T170000
DTSTAMP:20260420T215829
CREATED:20260113T115657Z
LAST-MODIFIED:20260113T115658Z
UID:8566-1788595200-1788627600@www.samaa.org.za
SUMMARY:Pylon Racing
DESCRIPTION:Contact Dion Van Rooyen – dionvr@outlook.com – 082-905-7040
URL:https://www.samaa.org.za/event/pylon-racing-5/
LOCATION:Rand Model Aeronautic Club – South Johannesburg
END:VEVENT
BEGIN:VEVENT
DTSTART;TZID=Europe/Helsinki:20260919T080000
DTEND;TZID=Europe/Helsinki:20260920T170000
DTSTAMP:20260420T215829
CREATED:20250930T084404Z
LAST-MODIFIED:20250930T084404Z
UID:8387-1789804800-1789923600@www.samaa.org.za
SUMMARY:F3K Team Trails
DESCRIPTION:
URL:https://www.samaa.org.za/event/f3k-team-trails/
ORGANIZER;CN="Ken Goodenough":MAILTO:ken.goodenough@eseeng.co.za
END:VEVENT
BEGIN:VEVENT
DTSTART;TZID=Europe/Helsinki:20260920T080000
DTEND;TZID=Europe/Helsinki:20260920T170000
DTSTAMP:20260420T215829
CREATED:20260210T080724Z
LAST-MODIFIED:20260210T080725Z
UID:8625-1789891200-1789923600@www.samaa.org.za
SUMMARY:WPMAA (MAASA) - League Event 8
DESCRIPTION:Venue: TMFCContact: Stuart Nix – westerncape@maasa.co.za
URL:https://www.samaa.org.za/event/wpmaa-maasa-league-event-8/
END:VEVENT
BEGIN:VEVENT
DTSTART;TZID=Europe/Helsinki:20260924T080000
DTEND;TZID=Europe/Helsinki:20260927T170000
DTSTAMP:20260420T215829
CREATED:20260327T112604Z
LAST-MODIFIED:20260327T112608Z
UID:8701-1790236800-1790528400@www.samaa.org.za
SUMMARY:Dumbe Slope Weekend
DESCRIPTION:Contact: Jan Sime @ +27 82 556 1510
URL:https://www.samaa.org.za/event/dumbe-slope-weekend/
END:VEVENT
BEGIN:VEVENT
DTSTART;TZID=Europe/Helsinki:20260927T080000
DTEND;TZID=Europe/Helsinki:20260927T170000
DTSTAMP:20260420T215829
CREATED:20260210T075603Z
LAST-MODIFIED:20260210T075604Z
UID:8607-1790496000-1790528400@www.samaa.org.za
SUMMARY:Gauteng Aerobatics Association (MAASA) - Gauteng Provincial Championships
DESCRIPTION:Venue: North Eastern Radio FlyersContact: Rui Martins – chairman@maasa.co.za
URL:https://www.samaa.org.za/event/gauteng-aerobatics-association-maasa-gauteng-provincial-championships/
END:VEVENT
END:VCALENDAR