BEGIN:VCALENDAR
VERSION:2.0
PRODID:-//SAMAA - ECPv6.15.17.1//NONSGML v1.0//EN
CALSCALE:GREGORIAN
METHOD:PUBLISH
X-WR-CALNAME:SAMAA
X-ORIGINAL-URL:https://www.samaa.org.za
X-WR-CALDESC:Events for SAMAA
REFRESH-INTERVAL;VALUE=DURATION:PT1H
X-Robots-Tag:noindex
X-PUBLISHED-TTL:PT1H
BEGIN:VTIMEZONE
TZID:Europe/Helsinki
BEGIN:DAYLIGHT
TZOFFSETFROM:+0200
TZOFFSETTO:+0300
TZNAME:EEST
DTSTART:20240331T010000
END:DAYLIGHT
BEGIN:STANDARD
TZOFFSETFROM:+0300
TZOFFSETTO:+0200
TZNAME:EET
DTSTART:20241027T010000
END:STANDARD
BEGIN:DAYLIGHT
TZOFFSETFROM:+0200
TZOFFSETTO:+0300
TZNAME:EEST
DTSTART:20250330T010000
END:DAYLIGHT
BEGIN:STANDARD
TZOFFSETFROM:+0300
TZOFFSETTO:+0200
TZNAME:EET
DTSTART:20251026T010000
END:STANDARD
BEGIN:DAYLIGHT
TZOFFSETFROM:+0200
TZOFFSETTO:+0300
TZNAME:EEST
DTSTART:20260329T010000
END:DAYLIGHT
BEGIN:STANDARD
TZOFFSETFROM:+0300
TZOFFSETTO:+0200
TZNAME:EET
DTSTART:20261025T010000
END:STANDARD
END:VTIMEZONE
BEGIN:VEVENT
DTSTART;TZID=Europe/Helsinki:20250228T080000
DTEND;TZID=Europe/Helsinki:20250302T170000
DTSTAMP:20260422T120420
CREATED:20250122T095530Z
LAST-MODIFIED:20250122T095531Z
UID:7517-1740729600-1740934800@www.samaa.org.za
SUMMARY:Top Gun 2025
DESCRIPTION:Pretoria Military Radio Control Flying Club (old Zwartkop AFB)
URL:https://www.samaa.org.za/event/top-gun-2025/
ORGANIZER;CN="Dean Grobbelaar":MAILTO:dean@aerialconcepts.co.za
END:VEVENT
BEGIN:VEVENT
DTSTART;TZID=Europe/Helsinki:20250301T080000
DTEND;TZID=Europe/Helsinki:20250302T170000
DTSTAMP:20260422T120420
CREATED:20250206T082910Z
LAST-MODIFIED:20250206T082911Z
UID:7601-1740816000-1740934800@www.samaa.org.za
SUMMARY:Kimberley Model Aircraft Club Fly-in
DESCRIPTION:Contact Tjaart van der Walt : 082-941-2341
URL:https://www.samaa.org.za/event/kimberley-model-aircraft-club-fly-in/
END:VEVENT
BEGIN:VEVENT
DTSTART;TZID=Europe/Helsinki:20250302T080000
DTEND;TZID=Europe/Helsinki:20250302T170000
DTSTAMP:20260422T120420
CREATED:20241218T064616Z
LAST-MODIFIED:20241218T064616Z
UID:7371-1740902400-1740934800@www.samaa.org.za
SUMMARY:MGA - F3K Team Practice
DESCRIPTION:Greenfields Eastern Model Soarers
URL:https://www.samaa.org.za/event/mga-f3k-team-practice/
END:VEVENT
BEGIN:VEVENT
DTSTART;TZID=Europe/Helsinki:20250309T080000
DTEND;TZID=Europe/Helsinki:20250309T170000
DTSTAMP:20260422T120420
CREATED:20241218T064657Z
LAST-MODIFIED:20241218T064658Z
UID:7373-1741507200-1741539600@www.samaa.org.za
SUMMARY:MGA - F3K Practice
DESCRIPTION:Greenfields Eastern Model Soarers
URL:https://www.samaa.org.za/event/mga-f3k-practice-2/
END:VEVENT
BEGIN:VEVENT
DTSTART;TZID=Europe/Helsinki:20250313T180000
DTEND;TZID=Europe/Helsinki:20250313T190000
DTSTAMP:20260422T120420
CREATED:20240927T090047Z
LAST-MODIFIED:20240927T090048Z
UID:7294-1741888800-1741892400@www.samaa.org.za
SUMMARY:SAMAA AGM
DESCRIPTION:Venue to be confirmed
URL:https://www.samaa.org.za/event/samaa-agm/
END:VEVENT
BEGIN:VEVENT
DTSTART;TZID=Europe/Helsinki:20250315T080000
DTEND;TZID=Europe/Helsinki:20250316T170000
DTSTAMP:20260422T120420
CREATED:20241218T064748Z
LAST-MODIFIED:20241218T064748Z
UID:7375-1742025600-1742144400@www.samaa.org.za
SUMMARY:MGA - Warthog Gliding - F3K
DESCRIPTION:
URL:https://www.samaa.org.za/event/mga-warthog-gliding-f3k/
END:VEVENT
BEGIN:VEVENT
DTSTART;TZID=Europe/Helsinki:20250316T080000
DTEND;TZID=Europe/Helsinki:20250316T170000
DTSTAMP:20260422T120420
CREATED:20250123T064819Z
LAST-MODIFIED:20250123T064820Z
UID:7527-1742112000-1742144400@www.samaa.org.za
SUMMARY:CLASA - Chairmans Control Line Challenge Day
DESCRIPTION:Barnstormers Model Flying Club
URL:https://www.samaa.org.za/event/clasa-chairmans-control-line-challenge-day/
END:VEVENT
BEGIN:VEVENT
DTSTART;TZID=Europe/Helsinki:20250320T080000
DTEND;TZID=Europe/Helsinki:20250324T170000
DTSTAMP:20260422T120420
CREATED:20241218T064037Z
LAST-MODIFIED:20241218T064145Z
UID:7366-1742457600-1742835600@www.samaa.org.za
SUMMARY:MGA - Dumbe Slope
DESCRIPTION:
URL:https://www.samaa.org.za/event/mga-dumbe-slope/
END:VEVENT
BEGIN:VEVENT
DTSTART;TZID=Europe/Helsinki:20250329T080000
DTEND;TZID=Europe/Helsinki:20250329T170000
DTSTAMP:20260422T120420
CREATED:20250214T084448Z
LAST-MODIFIED:20250214T084449Z
UID:7648-1743235200-1743267600@www.samaa.org.za
SUMMARY:Barnstormers Heli Fest!
DESCRIPTION:Barnstormers Model Flying ClubContact Herman – 079-879-0613 or Sam 082-878-4519
URL:https://www.samaa.org.za/event/barnstormers-heli-fest/
END:VEVENT
BEGIN:VEVENT
DTSTART;TZID=Europe/Helsinki:20250330T080000
DTEND;TZID=Europe/Helsinki:20250330T170000
DTSTAMP:20260422T120420
CREATED:20241218T064944Z
LAST-MODIFIED:20241218T064945Z
UID:7377-1743321600-1743354000@www.samaa.org.za
SUMMARY:MGA - F3K Team Practice
DESCRIPTION:Greenfields Eastern Model Soarers
URL:https://www.samaa.org.za/event/mga-f3k-team-practice-2/
END:VEVENT
BEGIN:VEVENT
DTSTART;TZID=Europe/Helsinki:20250330T080000
DTEND;TZID=Europe/Helsinki:20250330T170000
DTSTAMP:20260422T120420
CREATED:20250107T071957Z
LAST-MODIFIED:20250107T071957Z
UID:7458-1743321600-1743354000@www.samaa.org.za
SUMMARY:MAASA - Gauteng - League 3
DESCRIPTION:White Hills Radio Flyers
URL:https://www.samaa.org.za/event/maasa-gauteng-league-3/
END:VEVENT
BEGIN:VEVENT
DTSTART;TZID=Europe/Helsinki:20250330T080000
DTEND;TZID=Europe/Helsinki:20250330T170000
DTSTAMP:20260422T120420
CREATED:20250123T065140Z
LAST-MODIFIED:20250123T065141Z
UID:7533-1743321600-1743354000@www.samaa.org.za
SUMMARY:CLASA - Sunday Club Fun Fly
DESCRIPTION:Barnstormers Model Flying Club
URL:https://www.samaa.org.za/event/clasa-sunday-club-fun-fly-3/
END:VEVENT
END:VCALENDAR