BEGIN:VCALENDAR
VERSION:2.0
PRODID:-//SAMAA - ECPv6.15.17.1//NONSGML v1.0//EN
CALSCALE:GREGORIAN
METHOD:PUBLISH
X-WR-CALNAME:SAMAA
X-ORIGINAL-URL:https://www.samaa.org.za
X-WR-CALDESC:Events for SAMAA
REFRESH-INTERVAL;VALUE=DURATION:PT1H
X-Robots-Tag:noindex
X-PUBLISHED-TTL:PT1H
BEGIN:VTIMEZONE
TZID:Europe/Helsinki
BEGIN:DAYLIGHT
TZOFFSETFROM:+0200
TZOFFSETTO:+0300
TZNAME:EEST
DTSTART:20240331T010000
END:DAYLIGHT
BEGIN:STANDARD
TZOFFSETFROM:+0300
TZOFFSETTO:+0200
TZNAME:EET
DTSTART:20241027T010000
END:STANDARD
BEGIN:DAYLIGHT
TZOFFSETFROM:+0200
TZOFFSETTO:+0300
TZNAME:EEST
DTSTART:20250330T010000
END:DAYLIGHT
BEGIN:STANDARD
TZOFFSETFROM:+0300
TZOFFSETTO:+0200
TZNAME:EET
DTSTART:20251026T010000
END:STANDARD
BEGIN:DAYLIGHT
TZOFFSETFROM:+0200
TZOFFSETTO:+0300
TZNAME:EEST
DTSTART:20260329T010000
END:DAYLIGHT
BEGIN:STANDARD
TZOFFSETFROM:+0300
TZOFFSETTO:+0200
TZNAME:EET
DTSTART:20261025T010000
END:STANDARD
END:VTIMEZONE
BEGIN:VEVENT
DTSTART;TZID=Europe/Helsinki:20250201T080000
DTEND;TZID=Europe/Helsinki:20250202T170000
DTSTAMP:20260422T084816
CREATED:20241218T063639Z
LAST-MODIFIED:20241218T063640Z
UID:7360-1738396800-1738515600@www.samaa.org.za
SUMMARY:MGA - Postals - F3K TP Postals
DESCRIPTION:Greenfields Eastern Model Soarers
URL:https://www.samaa.org.za/event/mga-postals-f3k-tp-postals/
END:VEVENT
BEGIN:VEVENT
DTSTART;TZID=Europe/Helsinki:20250201T080000
DTEND;TZID=Europe/Helsinki:20250201T170000
DTSTAMP:20260422T084816
CREATED:20250110T110056Z
LAST-MODIFIED:20250110T110057Z
UID:7499-1738396800-1738429200@www.samaa.org.za
SUMMARY:SAMPRA - Pylon Racing
DESCRIPTION:Rand Model Aeronautic Club
URL:https://www.samaa.org.za/event/sampra-pylon-racing/
END:VEVENT
BEGIN:VEVENT
DTSTART;TZID=Europe/Helsinki:20250208T080000
DTEND;TZID=Europe/Helsinki:20250209T170000
DTSTAMP:20260422T084816
CREATED:20241218T063830Z
LAST-MODIFIED:20241218T063830Z
UID:7362-1739001600-1739120400@www.samaa.org.za
SUMMARY:MGA - Postals - F3K Postals
DESCRIPTION:Greenfields Eastern Model Soarers
URL:https://www.samaa.org.za/event/mga-postals-f3k-postals/
END:VEVENT
BEGIN:VEVENT
DTSTART;TZID=Europe/Helsinki:20250209T080000
DTEND;TZID=Europe/Helsinki:20250209T170000
DTSTAMP:20260422T084816
CREATED:20250123T064602Z
LAST-MODIFIED:20250123T064602Z
UID:7525-1739088000-1739120400@www.samaa.org.za
SUMMARY:CLASA - Team Trail 1 Adamissin Cup
DESCRIPTION:Barnstormers Model Flying Club
URL:https://www.samaa.org.za/event/clasa-team-trail-1-adamissin-cup/
END:VEVENT
BEGIN:VEVENT
DTSTART;TZID=Europe/Helsinki:20250215T080000
DTEND;TZID=Europe/Helsinki:20250216T170000
DTSTAMP:20260422T084816
CREATED:20241218T063955Z
LAST-MODIFIED:20241218T063956Z
UID:7364-1739606400-1739725200@www.samaa.org.za
SUMMARY:MGA - Postals - Warthog Gliding
DESCRIPTION:
URL:https://www.samaa.org.za/event/mga-postals-warthog-gliding/
END:VEVENT
BEGIN:VEVENT
DTSTART;TZID=Europe/Helsinki:20250222T080000
DTEND;TZID=Europe/Helsinki:20250223T170000
DTSTAMP:20260422T084816
CREATED:20241218T064451Z
LAST-MODIFIED:20241218T064451Z
UID:7369-1740211200-1740330000@www.samaa.org.za
SUMMARY:MGA - Postals - F3K TP Postals
DESCRIPTION:Greenfields Eastern Model Soarers
URL:https://www.samaa.org.za/event/mga-postals-f3k-tp-postals-2/
END:VEVENT
BEGIN:VEVENT
DTSTART;TZID=Europe/Helsinki:20250222T080000
DTEND;TZID=Europe/Helsinki:20250222T170000
DTSTAMP:20260422T084816
CREATED:20250123T071032Z
LAST-MODIFIED:20250123T071104Z
UID:7559-1740211200-1740243600@www.samaa.org.za
SUMMARY:2025 SAMAA Provincial Combined Fly-in
DESCRIPTION:Wolwefontein Flyers (Mpumalanga)Stellenbosch Model Aircraft Academy (Western Cape)Durban Model Aircraft Club (Kwa-Zulu Natal)
URL:https://www.samaa.org.za/event/2025-samaa-provincial-combined-fly-in/
END:VEVENT
BEGIN:VEVENT
DTSTART;TZID=Europe/Helsinki:20250223T080000
DTEND;TZID=Europe/Helsinki:20250223T170000
DTSTAMP:20260422T084816
CREATED:20250107T071848Z
LAST-MODIFIED:20250107T071849Z
UID:7456-1740297600-1740330000@www.samaa.org.za
SUMMARY:MAASA - Gauteng - League 2
DESCRIPTION:Pretoria Radio Flyers
URL:https://www.samaa.org.za/event/maasa-gauteng-league-2/
END:VEVENT
BEGIN:VEVENT
DTSTART;TZID=Europe/Helsinki:20250223T080000
DTEND;TZID=Europe/Helsinki:20250223T170000
DTSTAMP:20260422T084816
CREATED:20250107T072936Z
LAST-MODIFIED:20250107T072937Z
UID:7474-1740297600-1740330000@www.samaa.org.za
SUMMARY:MAASA - Western Cape - League 2
DESCRIPTION:Tygerberg Model Flying Club
URL:https://www.samaa.org.za/event/maasa-western-cape-league-2/
END:VEVENT
BEGIN:VEVENT
DTSTART;TZID=Europe/Helsinki:20250223T080000
DTEND;TZID=Europe/Helsinki:20250223T170000
DTSTAMP:20260422T084816
CREATED:20250123T065100Z
LAST-MODIFIED:20250123T065101Z
UID:7531-1740297600-1740330000@www.samaa.org.za
SUMMARY:CLASA - Sunday Club Fun Fly
DESCRIPTION:Barnstormers Model Flying Club
URL:https://www.samaa.org.za/event/clasa-sunday-club-fun-fly-2/
END:VEVENT
BEGIN:VEVENT
DTSTART;TZID=Europe/Helsinki:20250228T080000
DTEND;TZID=Europe/Helsinki:20250302T170000
DTSTAMP:20260422T084816
CREATED:20250122T095530Z
LAST-MODIFIED:20250122T095531Z
UID:7517-1740729600-1740934800@www.samaa.org.za
SUMMARY:Top Gun 2025
DESCRIPTION:Pretoria Military Radio Control Flying Club (old Zwartkop AFB)
URL:https://www.samaa.org.za/event/top-gun-2025/
ORGANIZER;CN="Dean Grobbelaar":MAILTO:dean@aerialconcepts.co.za
END:VEVENT
END:VCALENDAR