BEGIN:VCALENDAR
VERSION:2.0
PRODID:-//SAMAA - ECPv6.15.17.1//NONSGML v1.0//EN
CALSCALE:GREGORIAN
METHOD:PUBLISH
X-WR-CALNAME:SAMAA
X-ORIGINAL-URL:https://www.samaa.org.za
X-WR-CALDESC:Events for SAMAA
REFRESH-INTERVAL;VALUE=DURATION:PT1H
X-Robots-Tag:noindex
X-PUBLISHED-TTL:PT1H
BEGIN:VTIMEZONE
TZID:Europe/Helsinki
BEGIN:DAYLIGHT
TZOFFSETFROM:+0200
TZOFFSETTO:+0300
TZNAME:EEST
DTSTART:20230326T010000
END:DAYLIGHT
BEGIN:STANDARD
TZOFFSETFROM:+0300
TZOFFSETTO:+0200
TZNAME:EET
DTSTART:20231029T010000
END:STANDARD
BEGIN:DAYLIGHT
TZOFFSETFROM:+0200
TZOFFSETTO:+0300
TZNAME:EEST
DTSTART:20240331T010000
END:DAYLIGHT
BEGIN:STANDARD
TZOFFSETFROM:+0300
TZOFFSETTO:+0200
TZNAME:EET
DTSTART:20241027T010000
END:STANDARD
BEGIN:DAYLIGHT
TZOFFSETFROM:+0200
TZOFFSETTO:+0300
TZNAME:EEST
DTSTART:20250330T010000
END:DAYLIGHT
BEGIN:STANDARD
TZOFFSETFROM:+0300
TZOFFSETTO:+0200
TZNAME:EET
DTSTART:20251026T010000
END:STANDARD
END:VTIMEZONE
BEGIN:VEVENT
DTSTART;TZID=Europe/Helsinki:20241207T100000
DTEND;TZID=Europe/Helsinki:20241207T150000
DTSTAMP:20260422T052019
CREATED:20240919T123107Z
LAST-MODIFIED:20240919T123149Z
UID:7289-1733565600-1733583600@www.samaa.org.za
SUMMARY:SAMAA Year-End Function
DESCRIPTION:Buy Swap Sell and Braai \n\n\n\n\n\nVenue: SAMAA Interactive Centre
URL:https://www.samaa.org.za/event/samaa-year-end-function/
END:VEVENT
BEGIN:VEVENT
DTSTART;TZID=Europe/Helsinki:20241214T080000
DTEND;TZID=Europe/Helsinki:20241214T170000
DTSTAMP:20260422T052019
CREATED:20241204T075154Z
LAST-MODIFIED:20241204T075155Z
UID:7346-1734163200-1734195600@www.samaa.org.za
SUMMARY:F3K Christmas Event
DESCRIPTION:GEMS
URL:https://www.samaa.org.za/event/f3k-christmas-event/
END:VEVENT
END:VCALENDAR