BEGIN:VCALENDAR
VERSION:2.0
PRODID:-//SAMAA - ECPv6.15.17.1//NONSGML v1.0//EN
CALSCALE:GREGORIAN
METHOD:PUBLISH
X-ORIGINAL-URL:https://www.samaa.org.za
X-WR-CALDESC:Events for SAMAA
REFRESH-INTERVAL;VALUE=DURATION:PT1H
X-Robots-Tag:noindex
X-PUBLISHED-TTL:PT1H
BEGIN:VTIMEZONE
TZID:Europe/Helsinki
BEGIN:DAYLIGHT
TZOFFSETFROM:+0200
TZOFFSETTO:+0300
TZNAME:EEST
DTSTART:20230326T010000
END:DAYLIGHT
BEGIN:STANDARD
TZOFFSETFROM:+0300
TZOFFSETTO:+0200
TZNAME:EET
DTSTART:20231029T010000
END:STANDARD
BEGIN:DAYLIGHT
TZOFFSETFROM:+0200
TZOFFSETTO:+0300
TZNAME:EEST
DTSTART:20240331T010000
END:DAYLIGHT
BEGIN:STANDARD
TZOFFSETFROM:+0300
TZOFFSETTO:+0200
TZNAME:EET
DTSTART:20241027T010000
END:STANDARD
BEGIN:DAYLIGHT
TZOFFSETFROM:+0200
TZOFFSETTO:+0300
TZNAME:EEST
DTSTART:20250330T010000
END:DAYLIGHT
BEGIN:STANDARD
TZOFFSETFROM:+0300
TZOFFSETTO:+0200
TZNAME:EET
DTSTART:20251026T010000
END:STANDARD
END:VTIMEZONE
BEGIN:VEVENT
DTSTART;TZID=Europe/Helsinki:20240809T080000
DTEND;TZID=Europe/Helsinki:20240810T170000
DTSTAMP:20260421T133911
CREATED:20240325T091826Z
LAST-MODIFIED:20240325T091827Z
UID:6511-1723190400-1723309200@www.samaa.org.za
SUMMARY:SAMPE Barnstormers
DESCRIPTION:Workshop/Clinic/Jump
URL:https://www.samaa.org.za/event/sampe-barnstormers/
END:VEVENT
BEGIN:VEVENT
DTSTART;TZID=Europe/Helsinki:20240811T080000
DTEND;TZID=Europe/Helsinki:20240817T170000
DTSTAMP:20260421T133911
CREATED:20240319T112537Z
LAST-MODIFIED:20240319T112539Z
UID:6499-1723363200-1723914000@www.samaa.org.za
SUMMARY:World Championships - CLASA
DESCRIPTION:Muncie USA
URL:https://www.samaa.org.za/event/world-championships-clasa/
END:VEVENT
BEGIN:VEVENT
DTSTART;TZID=Europe/Helsinki:20240817T080000
DTEND;TZID=Europe/Helsinki:20240817T170000
DTSTAMP:20260421T133911
CREATED:20240606T115321Z
LAST-MODIFIED:20240606T115322Z
UID:6578-1723881600-1723914000@www.samaa.org.za
SUMMARY:SAMAA & Irene Radio Flyers Festival Fly-in
DESCRIPTION:Great variety of model aircraft. Location: Irene Radio Flyers https://maps.app.goo.gl/vJPZX2UrtTymiDDS9
URL:https://www.samaa.org.za/event/samaa-irene-radio-flyers-festival-fly-in/
END:VEVENT
BEGIN:VEVENT
DTSTART;TZID=Europe/Helsinki:20240825T080000
DTEND;TZID=Europe/Helsinki:20240825T170000
DTSTAMP:20260421T133911
CREATED:20231207T084757Z
LAST-MODIFIED:20231207T084759Z
UID:6332-1724572800-1724605200@www.samaa.org.za
SUMMARY:MAASA - Lowveld Champs
DESCRIPTION:
URL:https://www.samaa.org.za/event/maasa-lowveld-champs/
END:VEVENT
BEGIN:VEVENT
DTSTART;TZID=Europe/Helsinki:20240825T080000
DTEND;TZID=Europe/Helsinki:20240825T170000
DTSTAMP:20260421T133911
CREATED:20240125T061429Z
LAST-MODIFIED:20240125T061431Z
UID:6406-1724572800-1724605200@www.samaa.org.za
SUMMARY:F3K Team Qualifier Event 3 (MGA)
DESCRIPTION:
URL:https://www.samaa.org.za/event/f3k-team-qualifier-event-3-mga/
END:VEVENT
END:VCALENDAR