BEGIN:VCALENDAR
VERSION:2.0
PRODID:-//SAMAA - ECPv6.15.17.1//NONSGML v1.0//EN
CALSCALE:GREGORIAN
METHOD:PUBLISH
X-ORIGINAL-URL:https://www.samaa.org.za
X-WR-CALDESC:Events for SAMAA
REFRESH-INTERVAL;VALUE=DURATION:PT1H
X-Robots-Tag:noindex
X-PUBLISHED-TTL:PT1H
BEGIN:VTIMEZONE
TZID:Europe/Helsinki
BEGIN:DAYLIGHT
TZOFFSETFROM:+0200
TZOFFSETTO:+0300
TZNAME:EEST
DTSTART:20230326T010000
END:DAYLIGHT
BEGIN:STANDARD
TZOFFSETFROM:+0300
TZOFFSETTO:+0200
TZNAME:EET
DTSTART:20231029T010000
END:STANDARD
BEGIN:DAYLIGHT
TZOFFSETFROM:+0200
TZOFFSETTO:+0300
TZNAME:EEST
DTSTART:20240331T010000
END:DAYLIGHT
BEGIN:STANDARD
TZOFFSETFROM:+0300
TZOFFSETTO:+0200
TZNAME:EET
DTSTART:20241027T010000
END:STANDARD
BEGIN:DAYLIGHT
TZOFFSETFROM:+0200
TZOFFSETTO:+0300
TZNAME:EEST
DTSTART:20250330T010000
END:DAYLIGHT
BEGIN:STANDARD
TZOFFSETFROM:+0300
TZOFFSETTO:+0200
TZNAME:EET
DTSTART:20251026T010000
END:STANDARD
END:VTIMEZONE
BEGIN:VEVENT
DTSTART;TZID=Europe/Helsinki:20240707T080000
DTEND;TZID=Europe/Helsinki:20240707T170000
DTSTAMP:20260421T151206
CREATED:20231211T104940Z
LAST-MODIFIED:20231211T105953Z
UID:6336-1720339200-1720371600@www.samaa.org.za
SUMMARY:Eagle Squadron 2024 Series Scale Round 1
DESCRIPTION:Rand Model Aeronautic Club
URL:https://www.samaa.org.za/event/eagle-squadron-2024-series-scale-round-1/
END:VEVENT
BEGIN:VEVENT
DTSTART;TZID=Europe/Helsinki:20240721T080000
DTEND;TZID=Europe/Helsinki:20240721T170000
DTSTAMP:20260421T151206
CREATED:20240125T060941Z
LAST-MODIFIED:20240125T060942Z
UID:6404-1721548800-1721581200@www.samaa.org.za
SUMMARY:F3K (MGA)
DESCRIPTION:
URL:https://www.samaa.org.za/event/f3k-mga-3/
END:VEVENT
BEGIN:VEVENT
DTSTART;TZID=Europe/Helsinki:20240727T080000
DTEND;TZID=Europe/Helsinki:20240727T170000
DTSTAMP:20260421T151206
CREATED:20240319T112931Z
LAST-MODIFIED:20240319T112933Z
UID:6503-1722067200-1722099600@www.samaa.org.za
SUMMARY:Sunday Club Fly (CLASA)
DESCRIPTION:Barnstormers Model Flying Club
URL:https://www.samaa.org.za/event/sunday-club-fly-clasa/
END:VEVENT
BEGIN:VEVENT
DTSTART;TZID=Europe/Helsinki:20240728T080000
DTEND;TZID=Europe/Helsinki:20240728T170000
DTSTAMP:20260421T151206
CREATED:20231207T084637Z
LAST-MODIFIED:20231207T084639Z
UID:6330-1722153600-1722186000@www.samaa.org.za
SUMMARY:MAASA - League 5
DESCRIPTION:
URL:https://www.samaa.org.za/event/maasa-league-5/
END:VEVENT
BEGIN:VEVENT
DTSTART;TZID=Europe/Helsinki:20240728T080000
DTEND;TZID=Europe/Helsinki:20240728T170000
DTSTAMP:20260421T151206
CREATED:20240604T061618Z
LAST-MODIFIED:20240604T061620Z
UID:6563-1722153600-1722186000@www.samaa.org.za
SUMMARY:Airshow @ Barnstormers Model Flying Club
DESCRIPTION:
URL:https://www.samaa.org.za/event/airshow-barnstormers-model-flying-club/
END:VEVENT
END:VCALENDAR