BEGIN:VCALENDAR
VERSION:2.0
PRODID:-//SAMAA - ECPv6.15.17.1//NONSGML v1.0//EN
CALSCALE:GREGORIAN
METHOD:PUBLISH
X-WR-CALNAME:SAMAA
X-ORIGINAL-URL:https://www.samaa.org.za
X-WR-CALDESC:Events for SAMAA
REFRESH-INTERVAL;VALUE=DURATION:PT1H
X-Robots-Tag:noindex
X-PUBLISHED-TTL:PT1H
BEGIN:VTIMEZONE
TZID:Europe/Helsinki
BEGIN:DAYLIGHT
TZOFFSETFROM:+0200
TZOFFSETTO:+0300
TZNAME:EEST
DTSTART:20230326T010000
END:DAYLIGHT
BEGIN:STANDARD
TZOFFSETFROM:+0300
TZOFFSETTO:+0200
TZNAME:EET
DTSTART:20231029T010000
END:STANDARD
BEGIN:DAYLIGHT
TZOFFSETFROM:+0200
TZOFFSETTO:+0300
TZNAME:EEST
DTSTART:20240331T010000
END:DAYLIGHT
BEGIN:STANDARD
TZOFFSETFROM:+0300
TZOFFSETTO:+0200
TZNAME:EET
DTSTART:20241027T010000
END:STANDARD
BEGIN:DAYLIGHT
TZOFFSETFROM:+0200
TZOFFSETTO:+0300
TZNAME:EEST
DTSTART:20250330T010000
END:DAYLIGHT
BEGIN:STANDARD
TZOFFSETFROM:+0300
TZOFFSETTO:+0200
TZNAME:EET
DTSTART:20251026T010000
END:STANDARD
END:VTIMEZONE
BEGIN:VEVENT
DTSTART;TZID=Europe/Helsinki:20241006T080000
DTEND;TZID=Europe/Helsinki:20241006T170000
DTSTAMP:20260421T212824
CREATED:20240930T085917Z
LAST-MODIFIED:20240930T085918Z
UID:7296-1728201600-1728234000@www.samaa.org.za
SUMMARY:MMAC Boot Sale Day
DESCRIPTION:Contact Johan on 082-202-4163
URL:https://www.samaa.org.za/event/mmac-boot-sale-day/
END:VEVENT
BEGIN:VEVENT
DTSTART;TZID=Europe/Helsinki:20241006T080000
DTEND;TZID=Europe/Helsinki:20241006T170000
DTSTAMP:20260421T212824
CREATED:20240604T061733Z
LAST-MODIFIED:20240830T121953Z
UID:6565-1728201600-1728234000@www.samaa.org.za
SUMMARY:Chairmans Challenge @ Barnstormers MFC
DESCRIPTION:
URL:https://www.samaa.org.za/event/chairmans-challenge-barnstormers-mfc/
END:VEVENT
BEGIN:VEVENT
DTSTART;TZID=Europe/Helsinki:20240928T080000
DTEND;TZID=Europe/Helsinki:20240929T170000
DTSTAMP:20260421T212824
CREATED:20231207T085022Z
LAST-MODIFIED:20231207T085024Z
UID:6334-1727510400-1727629200@www.samaa.org.za
SUMMARY:MAASA - Gauteng Champs
DESCRIPTION:
URL:https://www.samaa.org.za/event/maasa-gauteng-champs/
END:VEVENT
BEGIN:VEVENT
DTSTART;TZID=Europe/Helsinki:20240924T080000
DTEND;TZID=Europe/Helsinki:20240924T170000
DTSTAMP:20260421T212824
CREATED:20240325T091933Z
LAST-MODIFIED:20240325T091934Z
UID:6513-1727164800-1727197200@www.samaa.org.za
SUMMARY:SAMPE - Fun Jump
DESCRIPTION:Irene Radio Flyers
URL:https://www.samaa.org.za/event/sampe-fun-jump-3/
END:VEVENT
BEGIN:VEVENT
DTSTART;TZID=Europe/Helsinki:20240921T080000
DTEND;TZID=Europe/Helsinki:20240924T170000
DTSTAMP:20260421T212824
CREATED:20240319T112811Z
LAST-MODIFIED:20240319T112812Z
UID:6501-1726905600-1727197200@www.samaa.org.za
SUMMARY:CLASA Nationals
DESCRIPTION:Team Trail 2CLASA AGM
URL:https://www.samaa.org.za/event/clasa-nationals/
END:VEVENT
BEGIN:VEVENT
DTSTART;TZID=Europe/Helsinki:20240915T080000
DTEND;TZID=Europe/Helsinki:20240915T170000
DTSTAMP:20260421T212824
CREATED:20240125T061848Z
LAST-MODIFIED:20240125T061849Z
UID:6409-1726387200-1726419600@www.samaa.org.za
SUMMARY:F3K Event (MGA)
DESCRIPTION:
URL:https://www.samaa.org.za/event/f3k-event-mga/
END:VEVENT
BEGIN:VEVENT
DTSTART;TZID=Europe/Helsinki:20240907T080000
DTEND;TZID=Europe/Helsinki:20240907T170000
DTSTAMP:20260421T212824
CREATED:20240725T141122Z
LAST-MODIFIED:20240725T141122Z
UID:7052-1725696000-1725728400@www.samaa.org.za
SUMMARY:Dawn to Dusk
DESCRIPTION:Pretoria Radio Flyers casual get-togetherWarbirds welcome…other birds tooMore info from Tony 083-401-2777
URL:https://www.samaa.org.za/event/dawn-to-dusk/
END:VEVENT
BEGIN:VEVENT
DTSTART;TZID=Europe/Helsinki:20240825T080000
DTEND;TZID=Europe/Helsinki:20240825T170000
DTSTAMP:20260421T212824
CREATED:20240125T061429Z
LAST-MODIFIED:20240125T061431Z
UID:6406-1724572800-1724605200@www.samaa.org.za
SUMMARY:F3K Team Qualifier Event 3 (MGA)
DESCRIPTION:
URL:https://www.samaa.org.za/event/f3k-team-qualifier-event-3-mga/
END:VEVENT
BEGIN:VEVENT
DTSTART;TZID=Europe/Helsinki:20240825T080000
DTEND;TZID=Europe/Helsinki:20240825T170000
DTSTAMP:20260421T212824
CREATED:20231207T084757Z
LAST-MODIFIED:20231207T084759Z
UID:6332-1724572800-1724605200@www.samaa.org.za
SUMMARY:MAASA - Lowveld Champs
DESCRIPTION:
URL:https://www.samaa.org.za/event/maasa-lowveld-champs/
END:VEVENT
BEGIN:VEVENT
DTSTART;TZID=Europe/Helsinki:20240817T080000
DTEND;TZID=Europe/Helsinki:20240817T170000
DTSTAMP:20260421T212824
CREATED:20240606T115321Z
LAST-MODIFIED:20240606T115322Z
UID:6578-1723881600-1723914000@www.samaa.org.za
SUMMARY:SAMAA & Irene Radio Flyers Festival Fly-in
DESCRIPTION:Great variety of model aircraft. Location: Irene Radio Flyers https://maps.app.goo.gl/vJPZX2UrtTymiDDS9
URL:https://www.samaa.org.za/event/samaa-irene-radio-flyers-festival-fly-in/
END:VEVENT
BEGIN:VEVENT
DTSTART;TZID=Europe/Helsinki:20240811T080000
DTEND;TZID=Europe/Helsinki:20240817T170000
DTSTAMP:20260421T212824
CREATED:20240319T112537Z
LAST-MODIFIED:20240319T112539Z
UID:6499-1723363200-1723914000@www.samaa.org.za
SUMMARY:World Championships - CLASA
DESCRIPTION:Muncie USA
URL:https://www.samaa.org.za/event/world-championships-clasa/
END:VEVENT
BEGIN:VEVENT
DTSTART;TZID=Europe/Helsinki:20240809T080000
DTEND;TZID=Europe/Helsinki:20240810T170000
DTSTAMP:20260421T212824
CREATED:20240325T091826Z
LAST-MODIFIED:20240325T091827Z
UID:6511-1723190400-1723309200@www.samaa.org.za
SUMMARY:SAMPE Barnstormers
DESCRIPTION:Workshop/Clinic/Jump
URL:https://www.samaa.org.za/event/sampe-barnstormers/
END:VEVENT
BEGIN:VEVENT
DTSTART;TZID=Europe/Helsinki:20240728T080000
DTEND;TZID=Europe/Helsinki:20240728T170000
DTSTAMP:20260421T212824
CREATED:20240604T061618Z
LAST-MODIFIED:20240604T061620Z
UID:6563-1722153600-1722186000@www.samaa.org.za
SUMMARY:Airshow @ Barnstormers Model Flying Club
DESCRIPTION:
URL:https://www.samaa.org.za/event/airshow-barnstormers-model-flying-club/
END:VEVENT
BEGIN:VEVENT
DTSTART;TZID=Europe/Helsinki:20240728T080000
DTEND;TZID=Europe/Helsinki:20240728T170000
DTSTAMP:20260421T212824
CREATED:20231207T084637Z
LAST-MODIFIED:20231207T084639Z
UID:6330-1722153600-1722186000@www.samaa.org.za
SUMMARY:MAASA - League 5
DESCRIPTION:
URL:https://www.samaa.org.za/event/maasa-league-5/
END:VEVENT
BEGIN:VEVENT
DTSTART;TZID=Europe/Helsinki:20240727T080000
DTEND;TZID=Europe/Helsinki:20240727T170000
DTSTAMP:20260421T212824
CREATED:20240319T112931Z
LAST-MODIFIED:20240319T112933Z
UID:6503-1722067200-1722099600@www.samaa.org.za
SUMMARY:Sunday Club Fly (CLASA)
DESCRIPTION:Barnstormers Model Flying Club
URL:https://www.samaa.org.za/event/sunday-club-fly-clasa/
END:VEVENT
BEGIN:VEVENT
DTSTART;TZID=Europe/Helsinki:20240721T080000
DTEND;TZID=Europe/Helsinki:20240721T170000
DTSTAMP:20260421T212824
CREATED:20240125T060941Z
LAST-MODIFIED:20240125T060942Z
UID:6404-1721548800-1721581200@www.samaa.org.za
SUMMARY:F3K (MGA)
DESCRIPTION:
URL:https://www.samaa.org.za/event/f3k-mga-3/
END:VEVENT
BEGIN:VEVENT
DTSTART;TZID=Europe/Helsinki:20240707T080000
DTEND;TZID=Europe/Helsinki:20240707T170000
DTSTAMP:20260421T212824
CREATED:20231211T104940Z
LAST-MODIFIED:20231211T105953Z
UID:6336-1720339200-1720371600@www.samaa.org.za
SUMMARY:Eagle Squadron 2024 Series Scale Round 1
DESCRIPTION:Rand Model Aeronautic Club
URL:https://www.samaa.org.za/event/eagle-squadron-2024-series-scale-round-1/
END:VEVENT
BEGIN:VEVENT
DTSTART;TZID=Europe/Helsinki:20240630T080000
DTEND;TZID=Europe/Helsinki:20240630T170000
DTSTAMP:20260421T212824
CREATED:20240125T060856Z
LAST-MODIFIED:20240125T060858Z
UID:6402-1719734400-1719766800@www.samaa.org.za
SUMMARY:F3K Team Qualifier Event 2 @ GEMS
DESCRIPTION:
URL:https://www.samaa.org.za/event/f3k-team-qualifier-event-2-gems/
END:VEVENT
BEGIN:VEVENT
DTSTART;TZID=Europe/Helsinki:20240630T080000
DTEND;TZID=Europe/Helsinki:20240630T170000
DTSTAMP:20260421T212824
CREATED:20231207T084533Z
LAST-MODIFIED:20231207T084535Z
UID:6328-1719734400-1719766800@www.samaa.org.za
SUMMARY:MAASA - North West Champs
DESCRIPTION:
URL:https://www.samaa.org.za/event/maasa-north-west-champs/
END:VEVENT
BEGIN:VEVENT
DTSTART;TZID=Europe/Helsinki:20240622T080000
DTEND;TZID=Europe/Helsinki:20240622T170000
DTSTAMP:20260421T212824
CREATED:20240507T090827Z
LAST-MODIFIED:20240507T090829Z
UID:6543-1719043200-1719075600@www.samaa.org.za
SUMMARY:Western Cape Control Line
DESCRIPTION:Cape Wine Lands Airport
URL:https://www.samaa.org.za/event/western-cape-control-line/
END:VEVENT
BEGIN:VEVENT
DTSTART;TZID=Europe/Helsinki:20240615T080000
DTEND;TZID=Europe/Helsinki:20240617T170000
DTSTAMP:20260421T212824
CREATED:20240325T091731Z
LAST-MODIFIED:20240325T091733Z
UID:6509-1718438400-1718643600@www.samaa.org.za
SUMMARY:SAMPE Fun Jump
DESCRIPTION:Silverton Model Flying Club
URL:https://www.samaa.org.za/event/sampe-fun-jump-2/
END:VEVENT
BEGIN:VEVENT
DTSTART;TZID=Europe/Helsinki:20240609T080000
DTEND;TZID=Europe/Helsinki:20240609T170000
DTSTAMP:20260421T212824
CREATED:20240606T113906Z
LAST-MODIFIED:20240606T113907Z
UID:6572-1717920000-1717952400@www.samaa.org.za
SUMMARY:Jannie & Rhys' Soaring Send-Off
DESCRIPTION:Greenfields Eastern Model Soarers https://maps.app.goo.gl/LBfE1sEVKswQqJgZ9
URL:https://www.samaa.org.za/event/jannie-rhys-soaring-send-off/
END:VEVENT
BEGIN:VEVENT
DTSTART;TZID=Europe/Helsinki:20240609T080000
DTEND;TZID=Europe/Helsinki:20240609T170000
DTSTAMP:20260421T212824
CREATED:20240507T091932Z
LAST-MODIFIED:20240507T091934Z
UID:6545-1717920000-1717952400@www.samaa.org.za
SUMMARY:RMAC Jet Day
DESCRIPTION:Contact Chris Allsopp on 082-569-4201
URL:https://www.samaa.org.za/event/rmac-jet-day/
END:VEVENT
BEGIN:VEVENT
DTSTART;TZID=Europe/Helsinki:20240526T080000
DTEND;TZID=Europe/Helsinki:20240526T170000
DTSTAMP:20260421T212824
CREATED:20240125T060757Z
LAST-MODIFIED:20240125T060758Z
UID:6400-1716710400-1716742800@www.samaa.org.za
SUMMARY:F3K (MGA)
DESCRIPTION:
URL:https://www.samaa.org.za/event/f3k-mga-2/
END:VEVENT
BEGIN:VEVENT
DTSTART;TZID=Europe/Helsinki:20240526T080000
DTEND;TZID=Europe/Helsinki:20240526T170000
DTSTAMP:20260421T212824
CREATED:20231207T084200Z
LAST-MODIFIED:20240108T071356Z
UID:6326-1716710400-1716742800@www.samaa.org.za
SUMMARY:MAASA - League 4 - Barnstormers Model Flying Club
DESCRIPTION:
URL:https://www.samaa.org.za/event/maasa-league-4/
END:VEVENT
BEGIN:VEVENT
DTSTART;TZID=Europe/Helsinki:20240525T080000
DTEND;TZID=Europe/Helsinki:20240525T170000
DTSTAMP:20260421T212824
CREATED:20240325T091615Z
LAST-MODIFIED:20240325T091616Z
UID:6507-1716624000-1716656400@www.samaa.org.za
SUMMARY:SAMPE
DESCRIPTION:Pretoria Radio Flyers
URL:https://www.samaa.org.za/event/sampe-3/
END:VEVENT
BEGIN:VEVENT
DTSTART;TZID=Europe/Helsinki:20240511T080000
DTEND;TZID=Europe/Helsinki:20240511T170000
DTSTAMP:20260421T212824
CREATED:20240319T111611Z
LAST-MODIFIED:20240319T111613Z
UID:6493-1715414400-1715446800@www.samaa.org.za
SUMMARY:Dugmore Day (CLASA)
DESCRIPTION:Barnstormers Model Flying Club
URL:https://www.samaa.org.za/event/dugmore-day-clasa/
END:VEVENT
BEGIN:VEVENT
DTSTART;TZID=Europe/Helsinki:20240511T080000
DTEND;TZID=Europe/Helsinki:20240511T170000
DTSTAMP:20260421T212824
CREATED:20230524T080711Z
LAST-MODIFIED:20230524T080712Z
UID:6181-1715414400-1715446800@www.samaa.org.za
SUMMARY:Nelspruit Airshow
DESCRIPTION:
URL:https://www.samaa.org.za/event/nelspruit-airshow/
END:VEVENT
BEGIN:VEVENT
DTSTART;TZID=Europe/Helsinki:20240501T080000
DTEND;TZID=Europe/Helsinki:20240501T170000
DTSTAMP:20260421T212824
CREATED:20240319T111054Z
LAST-MODIFIED:20240319T111354Z
UID:6486-1714550400-1714582800@www.samaa.org.za
SUMMARY:WCCLA Championships
DESCRIPTION:BOMAC\, Cape Winelands
URL:https://www.samaa.org.za/event/wccla-championships/
ORGANIZER;CN="Peter Lott":MAILTO:pnlott@gmail.com
END:VEVENT
BEGIN:VEVENT
DTSTART;TZID=Europe/Helsinki:20240427T080000
DTEND;TZID=Europe/Helsinki:20240501T170000
DTSTAMP:20260421T212824
CREATED:20240404T141424Z
LAST-MODIFIED:20240404T141427Z
UID:6518-1714204800-1714582800@www.samaa.org.za
SUMMARY:Graaff-Reinet Fly-in
DESCRIPTION:Fly-in at Graaff-Reinet Airfield
URL:https://www.samaa.org.za/event/graaff-reinet-fly-in/
END:VEVENT
END:VCALENDAR