BEGIN:VCALENDAR
VERSION:2.0
PRODID:-//SAMAA - ECPv6.15.17.1//NONSGML v1.0//EN
CALSCALE:GREGORIAN
METHOD:PUBLISH
X-WR-CALNAME:SAMAA
X-ORIGINAL-URL:https://www.samaa.org.za
X-WR-CALDESC:Events for SAMAA
REFRESH-INTERVAL;VALUE=DURATION:PT1H
X-Robots-Tag:noindex
X-PUBLISHED-TTL:PT1H
BEGIN:VTIMEZONE
TZID:Europe/Helsinki
BEGIN:DAYLIGHT
TZOFFSETFROM:+0200
TZOFFSETTO:+0300
TZNAME:EEST
DTSTART:20210328T010000
END:DAYLIGHT
BEGIN:STANDARD
TZOFFSETFROM:+0300
TZOFFSETTO:+0200
TZNAME:EET
DTSTART:20211031T010000
END:STANDARD
BEGIN:DAYLIGHT
TZOFFSETFROM:+0200
TZOFFSETTO:+0300
TZNAME:EEST
DTSTART:20220327T010000
END:DAYLIGHT
BEGIN:STANDARD
TZOFFSETFROM:+0300
TZOFFSETTO:+0200
TZNAME:EET
DTSTART:20221030T010000
END:STANDARD
BEGIN:DAYLIGHT
TZOFFSETFROM:+0200
TZOFFSETTO:+0300
TZNAME:EEST
DTSTART:20230326T010000
END:DAYLIGHT
BEGIN:STANDARD
TZOFFSETFROM:+0300
TZOFFSETTO:+0200
TZNAME:EET
DTSTART:20231029T010000
END:STANDARD
END:VTIMEZONE
BEGIN:VEVENT
DTSTART;TZID=Europe/Helsinki:20220822T080000
DTEND;TZID=Europe/Helsinki:20220822T170000
DTSTAMP:20260422T123500
CREATED:20220816T131224Z
LAST-MODIFIED:20220816T131228Z
UID:708-1661155200-1661187600@www.samaa.org.za
SUMMARY:Model Gliding Association Postals Event
DESCRIPTION:Model Gliding Association Postals eventActivity: Gliding
URL:https://www.samaa.org.za/event/model-gliding-association-postals-event/
CATEGORIES:Gliding
ORGANIZER;CN="Hans Van Kamp":MAILTO:hans.vankamp@kampholdings.com
END:VEVENT
BEGIN:VEVENT
DTSTART;TZID=Europe/Helsinki:20220821T080000
DTEND;TZID=Europe/Helsinki:20220821T170000
DTSTAMP:20260422T123500
CREATED:20220816T122744Z
LAST-MODIFIED:20220816T131528Z
UID:697-1661068800-1661101200@www.samaa.org.za
SUMMARY:Model Gliding Association F5J Electric League Event
DESCRIPTION:Activity: Gliding
URL:https://www.samaa.org.za/event/model-gliding-association-f5j-electric-league-event/
CATEGORIES:Gliding
ORGANIZER;CN="Mike Vos":MAILTO:mikevosg@gmail.com
END:VEVENT
BEGIN:VEVENT
DTSTART;TZID=Europe/Helsinki:20220816T080000
DTEND;TZID=Europe/Helsinki:20220816T170000
DTSTAMP:20260422T123500
CREATED:20220816T132821Z
LAST-MODIFIED:20220816T132822Z
UID:718-1660636800-1660669200@www.samaa.org.za
SUMMARY:MAASA Gauteng Aerobatics League
DESCRIPTION:MAASA Gauteng Aerobatics League
URL:https://www.samaa.org.za/event/maasa-gauteng-aerobatics-league/
CATEGORIES:RC Aerobatics
ORGANIZER;CN="Chris O' Connell":MAILTO:gauteng@maasa.co.za
END:VEVENT
END:VCALENDAR