BEGIN:VCALENDAR
VERSION:2.0
PRODID:-//SAMAA - ECPv6.15.17.1//NONSGML v1.0//EN
CALSCALE:GREGORIAN
METHOD:PUBLISH
X-WR-CALNAME:SAMAA
X-ORIGINAL-URL:https://www.samaa.org.za
X-WR-CALDESC:Events for SAMAA
REFRESH-INTERVAL;VALUE=DURATION:PT1H
X-Robots-Tag:noindex
X-PUBLISHED-TTL:PT1H
BEGIN:VTIMEZONE
TZID:Europe/Helsinki
BEGIN:DAYLIGHT
TZOFFSETFROM:+0200
TZOFFSETTO:+0300
TZNAME:EEST
DTSTART:20240331T010000
END:DAYLIGHT
BEGIN:STANDARD
TZOFFSETFROM:+0300
TZOFFSETTO:+0200
TZNAME:EET
DTSTART:20241027T010000
END:STANDARD
BEGIN:DAYLIGHT
TZOFFSETFROM:+0200
TZOFFSETTO:+0300
TZNAME:EEST
DTSTART:20250330T010000
END:DAYLIGHT
BEGIN:STANDARD
TZOFFSETFROM:+0300
TZOFFSETTO:+0200
TZNAME:EET
DTSTART:20251026T010000
END:STANDARD
BEGIN:DAYLIGHT
TZOFFSETFROM:+0200
TZOFFSETTO:+0300
TZNAME:EEST
DTSTART:20260329T010000
END:DAYLIGHT
BEGIN:STANDARD
TZOFFSETFROM:+0300
TZOFFSETTO:+0200
TZNAME:EET
DTSTART:20261025T010000
END:STANDARD
END:VTIMEZONE
BEGIN:VEVENT
DTSTART;TZID=Europe/Helsinki:20250831T080000
DTEND;TZID=Europe/Helsinki:20250831T170000
DTSTAMP:20260421T053147
CREATED:20250107T072335Z
LAST-MODIFIED:20250107T072336Z
UID:7466-1756627200-1756659600@www.samaa.org.za
SUMMARY:MAASA - Gauteng - League 6
DESCRIPTION:White Hills Radio Flyers
URL:https://www.samaa.org.za/event/maasa-gauteng-league-6/
END:VEVENT
BEGIN:VEVENT
DTSTART;TZID=Europe/Helsinki:20250830T080000
DTEND;TZID=Europe/Helsinki:20250831T170000
DTSTAMP:20260421T053147
CREATED:20241218T070514Z
LAST-MODIFIED:20241218T070515Z
UID:7419-1756540800-1756659600@www.samaa.org.za
SUMMARY:MGA - Postals
DESCRIPTION:
URL:https://www.samaa.org.za/event/mga-postals-4/
END:VEVENT
BEGIN:VEVENT
DTSTART;TZID=Europe/Helsinki:20250824T080000
DTEND;TZID=Europe/Helsinki:20250824T170000
DTSTAMP:20260421T053147
CREATED:20250107T073338Z
LAST-MODIFIED:20250107T073339Z
UID:7484-1756022400-1756054800@www.samaa.org.za
SUMMARY:MAASA - Western Cape - League 6
DESCRIPTION:PRF
URL:https://www.samaa.org.za/event/maasa-western-cape-league-6/
END:VEVENT
BEGIN:VEVENT
DTSTART;TZID=Europe/Helsinki:20250823T080000
DTEND;TZID=Europe/Helsinki:20250824T170000
DTSTAMP:20260421T053147
CREATED:20241218T070451Z
LAST-MODIFIED:20241218T070451Z
UID:7417-1755936000-1756054800@www.samaa.org.za
SUMMARY:MGA - Postals
DESCRIPTION:
URL:https://www.samaa.org.za/event/mga-postals-3/
END:VEVENT
BEGIN:VEVENT
DTSTART;TZID=Europe/Helsinki:20250816T080000
DTEND;TZID=Europe/Helsinki:20250817T170000
DTSTAMP:20260421T053147
CREATED:20241218T070428Z
LAST-MODIFIED:20241218T070428Z
UID:7415-1755331200-1755450000@www.samaa.org.za
SUMMARY:MGA - Postals
DESCRIPTION:
URL:https://www.samaa.org.za/event/mga-postals-2/
END:VEVENT
BEGIN:VEVENT
DTSTART;TZID=Europe/Helsinki:20250816T080000
DTEND;TZID=Europe/Helsinki:20250816T170000
DTSTAMP:20260421T053147
CREATED:20241113T104017Z
LAST-MODIFIED:20250711T090119Z
UID:7339-1755331200-1755363600@www.samaa.org.za
SUMMARY:SAMAA & IRF Airshow
DESCRIPTION:Barnstormers Model Flying Club – https://maps.app.goo.gl/fyqFtJscUbSZ9nah7
URL:https://www.samaa.org.za/event/samaa-irf-fly-in/
END:VEVENT
BEGIN:VEVENT
DTSTART;TZID=Europe/Helsinki:20250809T080000
DTEND;TZID=Europe/Helsinki:20250810T170000
DTSTAMP:20260421T053147
CREATED:20241218T070403Z
LAST-MODIFIED:20241218T070404Z
UID:7413-1754726400-1754845200@www.samaa.org.za
SUMMARY:MGA - Postals
DESCRIPTION:
URL:https://www.samaa.org.za/event/mga-postals/
END:VEVENT
BEGIN:VEVENT
DTSTART;TZID=Europe/Helsinki:20250803T080000
DTEND;TZID=Europe/Helsinki:20250803T170000
DTSTAMP:20260421T053147
CREATED:20250805T075131Z
LAST-MODIFIED:20250805T075203Z
UID:8186-1754208000-1754240400@www.samaa.org.za
SUMMARY:
DESCRIPTION:MAASA Competition
URL:https://www.samaa.org.za/event/8186/
END:VEVENT
BEGIN:VEVENT
DTSTART;TZID=Europe/Helsinki:20250727T080000
DTEND;TZID=Europe/Helsinki:20250727T170000
DTSTAMP:20260421T053147
CREATED:20250303T120835Z
LAST-MODIFIED:20250619T064445Z
UID:7660-1753603200-1753635600@www.samaa.org.za
SUMMARY:Barnstormers Airshow
DESCRIPTION:Contact: Andre Van Heerden 084 367 8090
URL:https://www.samaa.org.za/event/barnstormers-airshow/
END:VEVENT
BEGIN:VEVENT
DTSTART;TZID=Europe/Helsinki:20250727T080000
DTEND;TZID=Europe/Helsinki:20250727T170000
DTSTAMP:20260421T053147
CREATED:20250123T065520Z
LAST-MODIFIED:20250123T065521Z
UID:7539-1753603200-1753635600@www.samaa.org.za
SUMMARY:Sunday Club Fun fly
DESCRIPTION:Barnstormers Model Flying Club
URL:https://www.samaa.org.za/event/sunday-club-fun-fly/
END:VEVENT
BEGIN:VEVENT
DTSTART;TZID=Europe/Helsinki:20250727T080000
DTEND;TZID=Europe/Helsinki:20250727T170000
DTSTAMP:20260421T053147
CREATED:20250107T073259Z
LAST-MODIFIED:20250107T073300Z
UID:7482-1753603200-1753635600@www.samaa.org.za
SUMMARY:MAASA - Western Cape - League 5
DESCRIPTION:Tygerberg Model Flying Club
URL:https://www.samaa.org.za/event/maasa-western-cape-league-5/
END:VEVENT
BEGIN:VEVENT
DTSTART;TZID=Europe/Helsinki:20250727T080000
DTEND;TZID=Europe/Helsinki:20250727T170000
DTSTAMP:20260421T053147
CREATED:20250107T072247Z
LAST-MODIFIED:20250107T072248Z
UID:7464-1753603200-1753635600@www.samaa.org.za
SUMMARY:MAASA - Gauteng - League 5
DESCRIPTION:Irene Radio Flyers
URL:https://www.samaa.org.za/event/maasa-gauteng-league-5/
END:VEVENT
BEGIN:VEVENT
DTSTART;TZID=Europe/Helsinki:20250726T080000
DTEND;TZID=Europe/Helsinki:20250803T170000
DTSTAMP:20260421T053147
CREATED:20241218T070322Z
LAST-MODIFIED:20241218T070322Z
UID:7411-1753516800-1754240400@www.samaa.org.za
SUMMARY:MGA - F3K World Championship
DESCRIPTION:
URL:https://www.samaa.org.za/event/mga-f3k-world-championship/
END:VEVENT
BEGIN:VEVENT
DTSTART;TZID=Europe/Helsinki:20250720T080000
DTEND;TZID=Europe/Helsinki:20250720T170000
DTSTAMP:20260421T053147
CREATED:20241218T070234Z
LAST-MODIFIED:20241218T070235Z
UID:7409-1752998400-1753030800@www.samaa.org.za
SUMMARY:MGA - F3K Team Practice
DESCRIPTION:Greenfields Eastern Model Soarers
URL:https://www.samaa.org.za/event/mga-f3k-team-practice-12/
END:VEVENT
BEGIN:VEVENT
DTSTART;TZID=Europe/Helsinki:20250713T080000
DTEND;TZID=Europe/Helsinki:20250713T170000
DTSTAMP:20260421T053147
CREATED:20241218T070104Z
LAST-MODIFIED:20241218T070104Z
UID:7407-1752393600-1752426000@www.samaa.org.za
SUMMARY:MGA - F3K Team Practice
DESCRIPTION:Greenfields Eastern Model Soarers
URL:https://www.samaa.org.za/event/mga-f3k-team-practice-11/
END:VEVENT
BEGIN:VEVENT
DTSTART;TZID=Europe/Helsinki:20250706T080000
DTEND;TZID=Europe/Helsinki:20250706T170000
DTSTAMP:20260421T053147
CREATED:20241218T070026Z
LAST-MODIFIED:20241218T070027Z
UID:7405-1751788800-1751821200@www.samaa.org.za
SUMMARY:MGA - Team Practice
DESCRIPTION:Greenfields Eastern Model Soarers
URL:https://www.samaa.org.za/event/mga-team-practice/
END:VEVENT
BEGIN:VEVENT
DTSTART;TZID=Europe/Helsinki:20250629T080000
DTEND;TZID=Europe/Helsinki:20250629T170000
DTSTAMP:20260421T053147
CREATED:20250123T065351Z
LAST-MODIFIED:20250123T065352Z
UID:7537-1751184000-1751216400@www.samaa.org.za
SUMMARY:CLASA - Sunday Club Fun Fly
DESCRIPTION:Barnstormers Model Flying Club
URL:https://www.samaa.org.za/event/clasa-sunday-club-fun-fly-5/
END:VEVENT
BEGIN:VEVENT
DTSTART;TZID=Europe/Helsinki:20250629T080000
DTEND;TZID=Europe/Helsinki:20250629T170000
DTSTAMP:20260421T053147
CREATED:20250107T073212Z
LAST-MODIFIED:20250107T073213Z
UID:7480-1751184000-1751216400@www.samaa.org.za
SUMMARY:MAASA - Western Cape - League 4
DESCRIPTION:Stellenbosch Model Aircraft Academy
URL:https://www.samaa.org.za/event/maasa-western-cape-league-4/
END:VEVENT
BEGIN:VEVENT
DTSTART;TZID=Europe/Helsinki:20250629T080000
DTEND;TZID=Europe/Helsinki:20250629T170000
DTSTAMP:20260421T053147
CREATED:20250107T072159Z
LAST-MODIFIED:20250107T072159Z
UID:7462-1751184000-1751216400@www.samaa.org.za
SUMMARY:MAASA - North West Champs
DESCRIPTION:Potchefstroom
URL:https://www.samaa.org.za/event/maasa-north-west-champs-2/
END:VEVENT
BEGIN:VEVENT
DTSTART;TZID=Europe/Helsinki:20250629T080000
DTEND;TZID=Europe/Helsinki:20250629T170000
DTSTAMP:20260421T053147
CREATED:20241218T065941Z
LAST-MODIFIED:20241218T065942Z
UID:7403-1751184000-1751216400@www.samaa.org.za
SUMMARY:MGA - F3K Team Practice
DESCRIPTION:Greenfields Eastern Model Soarers
URL:https://www.samaa.org.za/event/mga-f3k-team-practice-10/
END:VEVENT
BEGIN:VEVENT
DTSTART;TZID=Europe/Helsinki:20250622T080000
DTEND;TZID=Europe/Helsinki:20250622T170000
DTSTAMP:20260421T053147
CREATED:20241218T065901Z
LAST-MODIFIED:20241218T065902Z
UID:7401-1750579200-1750611600@www.samaa.org.za
SUMMARY:MGA - F3K Team Practice
DESCRIPTION:Greenfields Eastern Model Soarers
URL:https://www.samaa.org.za/event/mga-f3k-team-practice-9/
END:VEVENT
BEGIN:VEVENT
DTSTART;TZID=Europe/Helsinki:20250614T080000
DTEND;TZID=Europe/Helsinki:20250616T170000
DTSTAMP:20260421T053147
CREATED:20241218T065819Z
LAST-MODIFIED:20241218T065820Z
UID:7399-1749888000-1750093200@www.samaa.org.za
SUMMARY:MGA - Dumbe Slope
DESCRIPTION:
URL:https://www.samaa.org.za/event/mga-dumbe-slope-2/
END:VEVENT
BEGIN:VEVENT
DTSTART;TZID=Europe/Helsinki:20250608T080000
DTEND;TZID=Europe/Helsinki:20250608T170000
DTSTAMP:20260421T053147
CREATED:20241218T065750Z
LAST-MODIFIED:20241218T065750Z
UID:7397-1749369600-1749402000@www.samaa.org.za
SUMMARY:MGA - F3K Team Practice
DESCRIPTION:Greenfields Eastern Model Soarers
URL:https://www.samaa.org.za/event/mga-f3k-team-practice-8/
END:VEVENT
BEGIN:VEVENT
DTSTART;TZID=Europe/Helsinki:20250608T070000
DTEND;TZID=Europe/Helsinki:20250608T180000
DTSTAMP:20260421T053147
CREATED:20250424T072443Z
LAST-MODIFIED:20250424T072710Z
UID:7718-1749366000-1749405600@www.samaa.org.za
SUMMARY:RMAC Jet Fly-in 25
DESCRIPTION:Closing date for Entry 24 May 2025
URL:https://www.samaa.org.za/event/rmac-jet-fly-in-25/
LOCATION:Rand Model Aeronautic Club – South Johannesburg
END:VEVENT
BEGIN:VEVENT
DTSTART;TZID=Europe/Helsinki:20250601T080000
DTEND;TZID=Europe/Helsinki:20250601T170000
DTSTAMP:20260421T053147
CREATED:20250123T065244Z
LAST-MODIFIED:20250123T065245Z
UID:7535-1748764800-1748797200@www.samaa.org.za
SUMMARY:CLASA - Sunday Club Fun Fly
DESCRIPTION:Barnstormers Model Flying Club
URL:https://www.samaa.org.za/event/clasa-sunday-club-fun-fly-4/
END:VEVENT
BEGIN:VEVENT
DTSTART;TZID=Europe/Helsinki:20250601T080000
DTEND;TZID=Europe/Helsinki:20250601T170000
DTSTAMP:20260421T053147
CREATED:20241218T065706Z
LAST-MODIFIED:20241218T065707Z
UID:7395-1748764800-1748797200@www.samaa.org.za
SUMMARY:MGA - F3K Team Practice
DESCRIPTION:Greenfields Eastern Model Soarers
URL:https://www.samaa.org.za/event/mga-f3k-team-practice-7/
END:VEVENT
BEGIN:VEVENT
DTSTART;TZID=Europe/Helsinki:20250525T080000
DTEND;TZID=Europe/Helsinki:20250525T170000
DTSTAMP:20260421T053147
CREATED:20250107T073119Z
LAST-MODIFIED:20250107T073119Z
UID:7478-1748160000-1748192400@www.samaa.org.za
SUMMARY:MAASA - Western Cape - WP Champs
DESCRIPTION:Tygerberg Model Flying Club
URL:https://www.samaa.org.za/event/maasa-western-cape-wp-champs/
END:VEVENT
BEGIN:VEVENT
DTSTART;TZID=Europe/Helsinki:20250525T080000
DTEND;TZID=Europe/Helsinki:20250525T170000
DTSTAMP:20260421T053147
CREATED:20250107T072047Z
LAST-MODIFIED:20250107T072048Z
UID:7460-1748160000-1748192400@www.samaa.org.za
SUMMARY:MAASA - Gauteng - League 4
DESCRIPTION:Barnstormers Model Flying Club
URL:https://www.samaa.org.za/event/maasa-gauteng-league-4/
END:VEVENT
BEGIN:VEVENT
DTSTART;TZID=Europe/Helsinki:20250524T080000
DTEND;TZID=Europe/Helsinki:20250525T170000
DTSTAMP:20260421T053147
CREATED:20241218T065601Z
LAST-MODIFIED:20241218T065602Z
UID:7393-1748073600-1748192400@www.samaa.org.za
SUMMARY:MGA - Postals - F3K Postals
DESCRIPTION:Greenfields Eastern Model Soarers
URL:https://www.samaa.org.za/event/mga-postals-f3k-postals-4/
END:VEVENT
BEGIN:VEVENT
DTSTART;TZID=Europe/Helsinki:20250517T080000
DTEND;TZID=Europe/Helsinki:20250517T170000
DTSTAMP:20260421T053147
CREATED:20250515T115600Z
LAST-MODIFIED:20250515T115601Z
UID:7735-1747468800-1747501200@www.samaa.org.za
SUMMARY:RMAC Stick Day
DESCRIPTION:RMAC
URL:https://www.samaa.org.za/event/rmac-stick-day/
END:VEVENT
END:VCALENDAR