BEGIN:VCALENDAR
VERSION:2.0
PRODID:-//SAMAA - ECPv6.15.17.1//NONSGML v1.0//EN
CALSCALE:GREGORIAN
METHOD:PUBLISH
X-WR-CALNAME:SAMAA
X-ORIGINAL-URL:https://www.samaa.org.za
X-WR-CALDESC:Events for SAMAA
REFRESH-INTERVAL;VALUE=DURATION:PT1H
X-Robots-Tag:noindex
X-PUBLISHED-TTL:PT1H
BEGIN:VTIMEZONE
TZID:Europe/Helsinki
BEGIN:DAYLIGHT
TZOFFSETFROM:+0200
TZOFFSETTO:+0300
TZNAME:EEST
DTSTART:20240331T010000
END:DAYLIGHT
BEGIN:STANDARD
TZOFFSETFROM:+0300
TZOFFSETTO:+0200
TZNAME:EET
DTSTART:20241027T010000
END:STANDARD
BEGIN:DAYLIGHT
TZOFFSETFROM:+0200
TZOFFSETTO:+0300
TZNAME:EEST
DTSTART:20250330T010000
END:DAYLIGHT
BEGIN:STANDARD
TZOFFSETFROM:+0300
TZOFFSETTO:+0200
TZNAME:EET
DTSTART:20251026T010000
END:STANDARD
BEGIN:DAYLIGHT
TZOFFSETFROM:+0200
TZOFFSETTO:+0300
TZNAME:EEST
DTSTART:20260329T010000
END:DAYLIGHT
BEGIN:STANDARD
TZOFFSETFROM:+0300
TZOFFSETTO:+0200
TZNAME:EET
DTSTART:20261025T010000
END:STANDARD
BEGIN:DAYLIGHT
TZOFFSETFROM:+0200
TZOFFSETTO:+0300
TZNAME:EEST
DTSTART:20270328T010000
END:DAYLIGHT
BEGIN:STANDARD
TZOFFSETFROM:+0300
TZOFFSETTO:+0200
TZNAME:EET
DTSTART:20271031T010000
END:STANDARD
END:VTIMEZONE
BEGIN:VEVENT
DTSTART;TZID=Europe/Helsinki:20260424T080000
DTEND;TZID=Europe/Helsinki:20260427T170000
DTSTAMP:20260421T031839
CREATED:20251027T110303Z
LAST-MODIFIED:20251028T111013Z
UID:8413-1777017600-1777309200@www.samaa.org.za
SUMMARY:2026 Aerial Concepts SAMAA Combined Power Nationals
DESCRIPTION:Entry form – 2026 Aerial Concepts SAMAA Combined Power Nationals – Fill in form \n\n\n\n\n\n\n\n\n\nBarnstormers Model Flying Club
URL:https://www.samaa.org.za/event/2026-aerial-concepts-samaa-combined-power-nationals/
LOCATION:Barnstormers Model Flying Club\, Kempton Park
ORGANIZER;CN="SAMAA":MAILTO:admin@samaa.org.za
END:VEVENT
BEGIN:VEVENT
DTSTART;TZID=Europe/Helsinki:20260423T080000
DTEND;TZID=Europe/Helsinki:20260427T170000
DTSTAMP:20260421T031839
CREATED:20260218T074546Z
LAST-MODIFIED:20260218T074547Z
UID:8639-1776931200-1777309200@www.samaa.org.za
SUMMARY:Graaff-Reinet Large Scale\, Scale & Jet
DESCRIPTION:Contact: Zane Mannell 082-827-8410 or sajetdoctor@gmail.com
URL:https://www.samaa.org.za/event/graaff-reinet-large-scale-scale-jet/
LOCATION:Graaff-Reinet Airfield
END:VEVENT
BEGIN:VEVENT
DTSTART;TZID=Europe/Helsinki:20260423T080000
DTEND;TZID=Europe/Helsinki:20260427T170000
DTSTAMP:20260421T031839
CREATED:20260114T104558Z
LAST-MODIFIED:20260114T104559Z
UID:8571-1776931200-1777309200@www.samaa.org.za
SUMMARY:MGA Nationals
DESCRIPTION:Contact Jan Sime – 1jansime@gmail.com
URL:https://www.samaa.org.za/event/mga-nationals-2/
LOCATION:Boland Model Aircraft Club\, Paarl
END:VEVENT
BEGIN:VEVENT
DTSTART;TZID=Europe/Helsinki:20260419T080000
DTEND;TZID=Europe/Helsinki:20260419T170000
DTSTAMP:20260421T031839
CREATED:20260210T080113Z
LAST-MODIFIED:20260210T081159Z
UID:8615-1776585600-1776618000@www.samaa.org.za
SUMMARY:WPMAA (MAASA) - League Event 4
DESCRIPTION:Venue: WARFContact: Stuart Nix – westerncape@maasa.co.za
URL:https://www.samaa.org.za/event/wpmaa-maasa-league-event-4/
END:VEVENT
BEGIN:VEVENT
DTSTART;TZID=Europe/Helsinki:20260412T080000
DTEND;TZID=Europe/Helsinki:20260412T170000
DTSTAMP:20260421T031839
CREATED:20260210T074828Z
LAST-MODIFIED:20260210T074829Z
UID:8596-1775980800-1776013200@www.samaa.org.za
SUMMARY:Gauteng Aerobatics Association (MAASA) - F3A F27 Clinic
DESCRIPTION:Venue : TBCContact – Rui Martins – chairman@maasa.co.za
URL:https://www.samaa.org.za/event/gauteng-aerobatics-association-maasa-f3a-f27-clinic/
END:VEVENT
BEGIN:VEVENT
DTSTART;TZID=Europe/Helsinki:20260329T080000
DTEND;TZID=Europe/Helsinki:20260329T170000
DTSTAMP:20260421T031839
CREATED:20260210T074424Z
LAST-MODIFIED:20260210T074424Z
UID:8593-1774771200-1774803600@www.samaa.org.za
SUMMARY:Gauteng Aerobatics Association (MAASA) - League Event 2
DESCRIPTION:Pretoria Radio FlyersContact Rui Martins – chairman@maasa.co.za
URL:https://www.samaa.org.za/event/gauteng-aerobatics-association-maasa-league-event-2/
END:VEVENT
BEGIN:VEVENT
DTSTART;TZID=Europe/Helsinki:20260327T080000
DTEND;TZID=Europe/Helsinki:20260329T170000
DTSTAMP:20260421T031839
CREATED:20260224T093525Z
LAST-MODIFIED:20260224T093618Z
UID:8652-1774598400-1774803600@www.samaa.org.za
SUMMARY:SAMJA Bela Bela Fly-in
DESCRIPTION:Contact: Kevin Rehse 083-625-3624Venue: Bela Bela Valke (24 54 43S 028 18 13E)
URL:https://www.samaa.org.za/event/samja-bela-bela-fly-in/
END:VEVENT
BEGIN:VEVENT
DTSTART;TZID=Europe/Helsinki:20260322T080000
DTEND;TZID=Europe/Helsinki:20260322T170000
DTSTAMP:20260421T031839
CREATED:20260220T100137Z
LAST-MODIFIED:20260220T100138Z
UID:8645-1774166400-1774198800@www.samaa.org.za
SUMMARY:F3K Competition
DESCRIPTION:Contact Alan Smith 083-391-9216
URL:https://www.samaa.org.za/event/f3k-competition/
LOCATION:Greenfields Eastern Model Soarers
END:VEVENT
BEGIN:VEVENT
DTSTART;TZID=Europe/Helsinki:20260322T080000
DTEND;TZID=Europe/Helsinki:20260322T170000
DTSTAMP:20260421T031839
CREATED:20260210T080016Z
LAST-MODIFIED:20260210T081122Z
UID:8613-1774166400-1774198800@www.samaa.org.za
SUMMARY:WPMAA (MAASA) - League Event 3
DESCRIPTION:Venue: HFCContact: Stuart Nix – westerncape@maasa.co.za
URL:https://www.samaa.org.za/event/wpmaa-maasa-league-event-3/
END:VEVENT
BEGIN:VEVENT
DTSTART;TZID=Europe/Helsinki:20260319T190000
DTEND;TZID=Europe/Helsinki:20260319T200000
DTSTAMP:20260421T031839
CREATED:20250530T081404Z
LAST-MODIFIED:20251028T104240Z
UID:7752-1773946800-1773950400@www.samaa.org.za
SUMMARY:SAMAA Annual General Meeting
DESCRIPTION:Election of a new SAMAA Management Committee
URL:https://www.samaa.org.za/event/samaa-annual-general-meeting-2/
LOCATION:SAMAA\, Shop 2\, Parkdene Shopping Centre\, Parkdene\, 1459\, South Africa
END:VEVENT
BEGIN:VEVENT
DTSTART;TZID=Europe/Helsinki:20260315T080000
DTEND;TZID=Europe/Helsinki:20260315T170000
DTSTAMP:20260421T031839
CREATED:20260112T095313Z
LAST-MODIFIED:20260112T095314Z
UID:8554-1773561600-1773594000@www.samaa.org.za
SUMMARY:RMAC Glider Day
DESCRIPTION:Contact Dion van Rooyen – dionvr@outlook.com or 082-905-7040
URL:https://www.samaa.org.za/event/rmac-glider-day/
LOCATION:Rand Model Aeronautic Club – South Johannesburg
END:VEVENT
BEGIN:VEVENT
DTSTART;TZID=Europe/Helsinki:20260222T080000
DTEND;TZID=Europe/Helsinki:20260222T170000
DTSTAMP:20260421T031839
CREATED:20260210T075921Z
LAST-MODIFIED:20260210T081050Z
UID:8611-1771747200-1771779600@www.samaa.org.za
SUMMARY:WPMAA (MAASA) - League Event 2
DESCRIPTION:Venue: TMFCContact: Stuart Nix – westerncape@maasa.co.za
URL:https://www.samaa.org.za/event/wpmaa-maasa-league-event-2/
END:VEVENT
BEGIN:VEVENT
DTSTART;TZID=Europe/Helsinki:20260222T080000
DTEND;TZID=Europe/Helsinki:20260222T170000
DTSTAMP:20260421T031839
CREATED:20260210T074127Z
LAST-MODIFIED:20260210T074607Z
UID:8591-1771747200-1771779600@www.samaa.org.za
SUMMARY:Gauteng Aerobatics Association (MAASA) - League Event 1
DESCRIPTION:White Hills Radio FlyersContact Rui Martins – chairman@maasa.co.za
URL:https://www.samaa.org.za/event/gauteng-aerobatics-association-maasa/
END:VEVENT
BEGIN:VEVENT
DTSTART;TZID=Europe/Helsinki:20260221T080000
DTEND;TZID=Europe/Helsinki:20260221T170000
DTSTAMP:20260421T031839
CREATED:20251113T111821Z
LAST-MODIFIED:20251113T111822Z
UID:8449-1771660800-1771693200@www.samaa.org.za
SUMMARY:2026 SAMAA Interprovincial Combined Fly-in
DESCRIPTION:
URL:https://www.samaa.org.za/event/2026-samaa-interprovincial-combined-fly-in/
END:VEVENT
BEGIN:VEVENT
DTSTART;TZID=Europe/Helsinki:20260209T080000
DTEND;TZID=Europe/Helsinki:20260209T170000
DTSTAMP:20260421T031839
CREATED:20251121T121113Z
LAST-MODIFIED:20251121T121114Z
UID:8497-1770624000-1770656400@www.samaa.org.za
SUMMARY:CLASA - Adamissin Cup
DESCRIPTION:
URL:https://www.samaa.org.za/event/clasa-adamissin-cup/
LOCATION:Barnstormers Model Flying Club\, Kempton Park
END:VEVENT
BEGIN:VEVENT
DTSTART;TZID=Europe/Helsinki:20260207T080000
DTEND;TZID=Europe/Helsinki:20260207T170000
DTSTAMP:20260421T031839
CREATED:20260113T115607Z
LAST-MODIFIED:20260113T115611Z
UID:8564-1770451200-1770483600@www.samaa.org.za
SUMMARY:Pylon Racing
DESCRIPTION:Contact Dion Van Rooyen – dionvr@outlook.com – 082-905-7040
URL:https://www.samaa.org.za/event/pylon-racing-4/
LOCATION:Rand Model Aeronautic Club – South Johannesburg
END:VEVENT
BEGIN:VEVENT
DTSTART;TZID=Europe/Helsinki:20260131T080000
DTEND;TZID=Europe/Helsinki:20260201T170000
DTSTAMP:20260421T031839
CREATED:20260112T100004Z
LAST-MODIFIED:20260112T100005Z
UID:8562-1769846400-1769965200@www.samaa.org.za
SUMMARY:F3F - TOSS Slope Competition
DESCRIPTION:Contact David Semple – info@toss.co.za
URL:https://www.samaa.org.za/event/f3f-toss-slope-competition/
END:VEVENT
BEGIN:VEVENT
DTSTART;TZID=Europe/Helsinki:20260102T080000
DTEND;TZID=Europe/Helsinki:20260103T170000
DTSTAMP:20260421T031839
CREATED:20250930T084039Z
LAST-MODIFIED:20250930T084040Z
UID:8377-1767340800-1767459600@www.samaa.org.za
SUMMARY:F3K Team Qualifier 1
DESCRIPTION:
URL:https://www.samaa.org.za/event/f3k-team-qualifier-1/
ORGANIZER;CN="Ken Goodenough":MAILTO:ken.goodenough@eseeng.co.za
END:VEVENT
BEGIN:VEVENT
DTSTART;TZID=Europe/Helsinki:20251228T080000
DTEND;TZID=Europe/Helsinki:20251228T170000
DTSTAMP:20260421T031839
CREATED:20250123T070810Z
LAST-MODIFIED:20250123T070811Z
UID:7557-1766908800-1766941200@www.samaa.org.za
SUMMARY:CLASA - Sunday Club Fun Fly
DESCRIPTION:Barnstormers Model Flying Club
URL:https://www.samaa.org.za/event/clasa-sunday-club-fun-fly-9/
END:VEVENT
BEGIN:VEVENT
DTSTART;TZID=Europe/Helsinki:20251213T080000
DTEND;TZID=Europe/Helsinki:20251216T170000
DTSTAMP:20260421T031839
CREATED:20241218T070913Z
LAST-MODIFIED:20241218T070914Z
UID:7435-1765612800-1765904400@www.samaa.org.za
SUMMARY:MGA - Dumbe Slope
DESCRIPTION:
URL:https://www.samaa.org.za/event/mga-dumbe-slope-4/
END:VEVENT
BEGIN:VEVENT
DTSTART;TZID=Europe/Helsinki:20251130T080000
DTEND;TZID=Europe/Helsinki:20251130T170000
DTSTAMP:20260421T031839
CREATED:20251016T055839Z
LAST-MODIFIED:20251028T110607Z
UID:8396-1764489600-1764522000@www.samaa.org.za
SUMMARY:2025 LSA
DESCRIPTION:Enter now by clicking the link https://forms.office.com/r/0kh4F9pY2z \n\n\n\n\n\nBarnstormers Model Flying Club – https://maps.app.goo.gl/qc5QykXEeJmxXkiUA
URL:https://www.samaa.org.za/event/2025-lsa/
LOCATION:Barnstormers Model Flying Club\, Kempton Park
ORGANIZER;CN="Andre van Heerden":MAILTO:andre@universalkitchens.co.za
END:VEVENT
BEGIN:VEVENT
DTSTART;TZID=Europe/Helsinki:20251130T080000
DTEND;TZID=Europe/Helsinki:20251130T170000
DTSTAMP:20260421T031839
CREATED:20250123T070729Z
LAST-MODIFIED:20250123T070730Z
UID:7555-1764489600-1764522000@www.samaa.org.za
SUMMARY:CLASA - Sunday Club Fun Fly
DESCRIPTION:Barnstormers Model Flying Club
URL:https://www.samaa.org.za/event/clasa-sunday-club-fun-fly-8/
END:VEVENT
BEGIN:VEVENT
DTSTART;TZID=Europe/Helsinki:20251129T080000
DTEND;TZID=Europe/Helsinki:20251130T170000
DTSTAMP:20260421T031839
CREATED:20241218T070841Z
LAST-MODIFIED:20241218T070842Z
UID:7433-1764403200-1764522000@www.samaa.org.za
SUMMARY:MGA - Postals
DESCRIPTION:
URL:https://www.samaa.org.za/event/mga-postals-9/
END:VEVENT
BEGIN:VEVENT
DTSTART;TZID=Europe/Helsinki:20251122T080000
DTEND;TZID=Europe/Helsinki:20251123T170000
DTSTAMP:20260421T031839
CREATED:20241218T070818Z
LAST-MODIFIED:20241218T070819Z
UID:7431-1763798400-1763917200@www.samaa.org.za
SUMMARY:MGA - Postals
DESCRIPTION:
URL:https://www.samaa.org.za/event/mga-postals-8/
END:VEVENT
BEGIN:VEVENT
DTSTART;TZID=Europe/Helsinki:20251115T080000
DTEND;TZID=Europe/Helsinki:20251116T170000
DTSTAMP:20260421T031839
CREATED:20241218T070753Z
LAST-MODIFIED:20241218T070753Z
UID:7429-1763193600-1763312400@www.samaa.org.za
SUMMARY:MGA - Postals
DESCRIPTION:
URL:https://www.samaa.org.za/event/mga-postals-7/
END:VEVENT
BEGIN:VEVENT
DTSTART;TZID=Europe/Helsinki:20251109T080000
DTEND;TZID=Europe/Helsinki:20251109T170000
DTSTAMP:20260421T031839
CREATED:20250123T070635Z
LAST-MODIFIED:20250123T070635Z
UID:7553-1762675200-1762707600@www.samaa.org.za
SUMMARY:CLASA - Team Trail 4 - Roston Dugmore Day
DESCRIPTION:Barnstormers Model Flying Club
URL:https://www.samaa.org.za/event/clasa-team-trail-4-roston-dugmore-day/
END:VEVENT
BEGIN:VEVENT
DTSTART;TZID=Europe/Helsinki:20251108T090000
DTEND;TZID=Europe/Helsinki:20251108T130000
DTSTAMP:20260421T031839
CREATED:20250110T081557Z
LAST-MODIFIED:20251028T111908Z
UID:7490-1762592400-1762606800@www.samaa.org.za
SUMMARY:SAMAA Year-End _ Swop\, Sell\, Buy
DESCRIPTION:SAMAA Interactive Centre – https://maps.app.goo.gl/pLZgbVak1GbGtxPp7
URL:https://www.samaa.org.za/event/samaa-year-end/
END:VEVENT
BEGIN:VEVENT
DTSTART;TZID=Europe/Helsinki:20251108T080000
DTEND;TZID=Europe/Helsinki:20251109T170000
DTSTAMP:20260421T031839
CREATED:20241218T070725Z
LAST-MODIFIED:20241218T070726Z
UID:7427-1762588800-1762707600@www.samaa.org.za
SUMMARY:MGA - Postals
DESCRIPTION:
URL:https://www.samaa.org.za/event/mga-postals-6/
END:VEVENT
BEGIN:VEVENT
DTSTART;TZID=Europe/Helsinki:20251101T080000
DTEND;TZID=Europe/Helsinki:20251101T170000
DTSTAMP:20260421T031839
CREATED:20250110T110223Z
LAST-MODIFIED:20250110T110223Z
UID:7503-1761984000-1762016400@www.samaa.org.za
SUMMARY:SAMPRA - Pylon Racing
DESCRIPTION:Rand Model Aeronautical Club
URL:https://www.samaa.org.za/event/sampra-pylon-racing-3/
END:VEVENT
BEGIN:VEVENT
DTSTART;TZID=Europe/Helsinki:20251101T080000
DTEND;TZID=Europe/Helsinki:20251102T170000
DTSTAMP:20260421T031839
CREATED:20241218T070657Z
LAST-MODIFIED:20241218T070658Z
UID:7425-1761984000-1762102800@www.samaa.org.za
SUMMARY:MGA - Postals
DESCRIPTION:
URL:https://www.samaa.org.za/event/mga-postals-5/
END:VEVENT
END:VCALENDAR