BEGIN:VCALENDAR
VERSION:2.0
PRODID:-//SAMAA - ECPv6.15.17.1//NONSGML v1.0//EN
CALSCALE:GREGORIAN
METHOD:PUBLISH
X-WR-CALNAME:SAMAA
X-ORIGINAL-URL:https://www.samaa.org.za
X-WR-CALDESC:Events for SAMAA
REFRESH-INTERVAL;VALUE=DURATION:PT1H
X-Robots-Tag:noindex
X-PUBLISHED-TTL:PT1H
BEGIN:VTIMEZONE
TZID:Europe/Helsinki
BEGIN:DAYLIGHT
TZOFFSETFROM:+0200
TZOFFSETTO:+0300
TZNAME:EEST
DTSTART:20220327T010000
END:DAYLIGHT
BEGIN:STANDARD
TZOFFSETFROM:+0300
TZOFFSETTO:+0200
TZNAME:EET
DTSTART:20221030T010000
END:STANDARD
BEGIN:DAYLIGHT
TZOFFSETFROM:+0200
TZOFFSETTO:+0300
TZNAME:EEST
DTSTART:20230326T010000
END:DAYLIGHT
BEGIN:STANDARD
TZOFFSETFROM:+0300
TZOFFSETTO:+0200
TZNAME:EET
DTSTART:20231029T010000
END:STANDARD
BEGIN:DAYLIGHT
TZOFFSETFROM:+0200
TZOFFSETTO:+0300
TZNAME:EEST
DTSTART:20240331T010000
END:DAYLIGHT
BEGIN:STANDARD
TZOFFSETFROM:+0300
TZOFFSETTO:+0200
TZNAME:EET
DTSTART:20241027T010000
END:STANDARD
BEGIN:DAYLIGHT
TZOFFSETFROM:+0200
TZOFFSETTO:+0300
TZNAME:EEST
DTSTART:20250330T010000
END:DAYLIGHT
BEGIN:STANDARD
TZOFFSETFROM:+0300
TZOFFSETTO:+0200
TZNAME:EET
DTSTART:20251026T010000
END:STANDARD
END:VTIMEZONE
BEGIN:VEVENT
DTSTART;TZID=Europe/Helsinki:20240128T080000
DTEND;TZID=Europe/Helsinki:20240128T170000
DTSTAMP:20260421T193212
CREATED:20231207T082215Z
LAST-MODIFIED:20231207T082217Z
UID:6320-1706428800-1706461200@www.samaa.org.za
SUMMARY:MAASA - League 1
DESCRIPTION:
URL:https://www.samaa.org.za/event/maasa-league-1/
END:VEVENT
BEGIN:VEVENT
DTSTART;TZID=Europe/Helsinki:20231209T080000
DTEND;TZID=Europe/Helsinki:20231209T170000
DTSTAMP:20260421T193212
CREATED:20230314T085213Z
LAST-MODIFIED:20230314T085214Z
UID:6065-1702108800-1702141200@www.samaa.org.za
SUMMARY:CLASA
DESCRIPTION:Barnstormers Model Flying Club
URL:https://www.samaa.org.za/event/clasa-9/
END:VEVENT
BEGIN:VEVENT
DTSTART;TZID=Europe/Helsinki:20231126T080000
DTEND;TZID=Europe/Helsinki:20231126T170000
DTSTAMP:20260421T193212
CREATED:20230314T085136Z
LAST-MODIFIED:20230314T085137Z
UID:6063-1700985600-1701018000@www.samaa.org.za
SUMMARY:CLASA
DESCRIPTION:Barnstormers Model Flying Club
URL:https://www.samaa.org.za/event/clasa-8/
END:VEVENT
BEGIN:VEVENT
DTSTART;TZID=Europe/Helsinki:20231126T080000
DTEND;TZID=Europe/Helsinki:20231126T170000
DTSTAMP:20260421T193212
CREATED:20230206T101023Z
LAST-MODIFIED:20230206T101025Z
UID:5949-1700985600-1701018000@www.samaa.org.za
SUMMARY:MAASA
DESCRIPTION:
URL:https://www.samaa.org.za/event/maasa-9/
END:VEVENT
BEGIN:VEVENT
DTSTART;TZID=Europe/Helsinki:20231118T080000
DTEND;TZID=Europe/Helsinki:20231118T170000
DTSTAMP:20260421T193212
CREATED:20230206T100927Z
LAST-MODIFIED:20230206T100928Z
UID:5945-1700294400-1700326800@www.samaa.org.za
SUMMARY:LSA KZN
DESCRIPTION:
URL:https://www.samaa.org.za/event/lsa-kzn-7/
END:VEVENT
BEGIN:VEVENT
DTSTART;TZID=Europe/Helsinki:20231111T080000
DTEND;TZID=Europe/Helsinki:20231111T170000
DTSTAMP:20260421T193212
CREATED:20230314T085047Z
LAST-MODIFIED:20230314T085051Z
UID:6061-1699689600-1699722000@www.samaa.org.za
SUMMARY:CLASA - Vintage/Profile Comp. Speed/Scale Comp
DESCRIPTION:Barnstormers Model Flying Club
URL:https://www.samaa.org.za/event/clasa-vintage-profile-comp-speed-scale-comp/
END:VEVENT
BEGIN:VEVENT
DTSTART;TZID=Europe/Helsinki:20231104T080000
DTEND;TZID=Europe/Helsinki:20231104T170000
DTSTAMP:20260421T193212
CREATED:20230206T100859Z
LAST-MODIFIED:20230206T100900Z
UID:5943-1699084800-1699117200@www.samaa.org.za
SUMMARY:Pylon Racing
DESCRIPTION:
URL:https://www.samaa.org.za/event/pylon-racing-3/
END:VEVENT
BEGIN:VEVENT
DTSTART;TZID=Europe/Helsinki:20231029T080000
DTEND;TZID=Europe/Helsinki:20231029T170000
DTSTAMP:20260421T193212
CREATED:20230206T100831Z
LAST-MODIFIED:20230206T100832Z
UID:5941-1698566400-1698598800@www.samaa.org.za
SUMMARY:MAASA
DESCRIPTION:
URL:https://www.samaa.org.za/event/maasa-8/
END:VEVENT
BEGIN:VEVENT
DTSTART;TZID=Europe/Helsinki:20231028T080000
DTEND;TZID=Europe/Helsinki:20231028T170000
DTSTAMP:20260421T193212
CREATED:20230314T084940Z
LAST-MODIFIED:20230314T084941Z
UID:6059-1698480000-1698512400@www.samaa.org.za
SUMMARY:CLASA
DESCRIPTION:Barnstormers Model Flying Club
URL:https://www.samaa.org.za/event/clasa-7/
END:VEVENT
BEGIN:VEVENT
DTSTART;TZID=Europe/Helsinki:20231015T080000
DTEND;TZID=Europe/Helsinki:20231015T170000
DTSTAMP:20260421T193212
CREATED:20230920T072928Z
LAST-MODIFIED:20230920T072933Z
UID:6283-1697356800-1697389200@www.samaa.org.za
SUMMARY:NASA (Scale) Regionals Round 2
DESCRIPTION:
URL:https://www.samaa.org.za/event/nasa-scale-regionals-round-2/
END:VEVENT
BEGIN:VEVENT
DTSTART;TZID=Europe/Helsinki:20231001T080000
DTEND;TZID=Europe/Helsinki:20231001T170000
DTSTAMP:20260421T193212
CREATED:20230919T075108Z
LAST-MODIFIED:20230919T075110Z
UID:6279-1696147200-1696179600@www.samaa.org.za
SUMMARY:2023 LSA (Gauteng)
DESCRIPTION:Barnstormers Model Flying Club
URL:https://www.samaa.org.za/event/2023-lsa-gauteng/
END:VEVENT
BEGIN:VEVENT
DTSTART;TZID=Europe/Helsinki:20230930T080000
DTEND;TZID=Europe/Helsinki:20230930T170000
DTSTAMP:20260421T193212
CREATED:20230314T084846Z
LAST-MODIFIED:20230314T084848Z
UID:6057-1696060800-1696093200@www.samaa.org.za
SUMMARY:CLASA
DESCRIPTION:Barnstormers Model Flying Club
URL:https://www.samaa.org.za/event/clasa-6/
END:VEVENT
BEGIN:VEVENT
DTSTART;TZID=Europe/Helsinki:20230930T080000
DTEND;TZID=Europe/Helsinki:20230930T170000
DTSTAMP:20260421T193212
CREATED:20230206T100800Z
LAST-MODIFIED:20230206T100801Z
UID:5939-1696060800-1696093200@www.samaa.org.za
SUMMARY:LSA KZN
DESCRIPTION:
URL:https://www.samaa.org.za/event/lsa-kzn-6/
END:VEVENT
BEGIN:VEVENT
DTSTART;TZID=Europe/Helsinki:20230924T080000
DTEND;TZID=Europe/Helsinki:20230924T170000
DTSTAMP:20260421T193212
CREATED:20230206T100729Z
LAST-MODIFIED:20230206T100730Z
UID:5937-1695542400-1695574800@www.samaa.org.za
SUMMARY:MAASA
DESCRIPTION:
URL:https://www.samaa.org.za/event/maasa-7/
END:VEVENT
BEGIN:VEVENT
DTSTART;TZID=Europe/Helsinki:20230917T080000
DTEND;TZID=Europe/Helsinki:20230917T170000
DTSTAMP:20260421T193212
CREATED:20230206T100623Z
LAST-MODIFIED:20230206T100624Z
UID:5935-1694937600-1694970000@www.samaa.org.za
SUMMARY:LSA Gauteng
DESCRIPTION:
URL:https://www.samaa.org.za/event/lsa-gauteng-4/
END:VEVENT
BEGIN:VEVENT
DTSTART;TZID=Europe/Helsinki:20230902T080000
DTEND;TZID=Europe/Helsinki:20230902T170000
DTSTAMP:20260421T193212
CREATED:20230206T100552Z
LAST-MODIFIED:20230206T100553Z
UID:5933-1693641600-1693674000@www.samaa.org.za
SUMMARY:Pylon Racing
DESCRIPTION:
URL:https://www.samaa.org.za/event/pylon-racing-2/
END:VEVENT
BEGIN:VEVENT
DTSTART;TZID=Europe/Helsinki:20230827T080000
DTEND;TZID=Europe/Helsinki:20230827T170000
DTSTAMP:20260421T193212
CREATED:20230314T084730Z
LAST-MODIFIED:20230314T084733Z
UID:6055-1693123200-1693155600@www.samaa.org.za
SUMMARY:CLASA
DESCRIPTION:Barnstormers Model Flying Club
URL:https://www.samaa.org.za/event/clasa-5/
END:VEVENT
BEGIN:VEVENT
DTSTART;TZID=Europe/Helsinki:20230827T080000
DTEND;TZID=Europe/Helsinki:20230827T170000
DTSTAMP:20260421T193212
CREATED:20230206T100520Z
LAST-MODIFIED:20230206T100521Z
UID:5931-1693123200-1693155600@www.samaa.org.za
SUMMARY:MAASA
DESCRIPTION:
URL:https://www.samaa.org.za/event/maasa-6/
END:VEVENT
BEGIN:VEVENT
DTSTART;TZID=Europe/Helsinki:20230826T080000
DTEND;TZID=Europe/Helsinki:20230826T170000
DTSTAMP:20260421T193212
CREATED:20230206T100445Z
LAST-MODIFIED:20230206T100447Z
UID:5929-1693036800-1693069200@www.samaa.org.za
SUMMARY:LSA KZN
DESCRIPTION:
URL:https://www.samaa.org.za/event/lsa-kzn-5/
END:VEVENT
BEGIN:VEVENT
DTSTART;TZID=Europe/Helsinki:20230730T080000
DTEND;TZID=Europe/Helsinki:20230730T170000
DTSTAMP:20260421T193212
CREATED:20230206T100411Z
LAST-MODIFIED:20230206T100413Z
UID:5927-1690704000-1690736400@www.samaa.org.za
SUMMARY:MAASA
DESCRIPTION:
URL:https://www.samaa.org.za/event/maasa-5/
END:VEVENT
BEGIN:VEVENT
DTSTART;TZID=Europe/Helsinki:20230729T080000
DTEND;TZID=Europe/Helsinki:20230729T170000
DTSTAMP:20260421T193212
CREATED:20230314T084648Z
LAST-MODIFIED:20230314T084650Z
UID:6053-1690617600-1690650000@www.samaa.org.za
SUMMARY:CLASA
DESCRIPTION:Barnstormers Model Flying Club
URL:https://www.samaa.org.za/event/clasa-4/
END:VEVENT
BEGIN:VEVENT
DTSTART;TZID=Europe/Helsinki:20230729T080000
DTEND;TZID=Europe/Helsinki:20230729T170000
DTSTAMP:20260421T193212
CREATED:20230206T100346Z
LAST-MODIFIED:20230206T100347Z
UID:5925-1690617600-1690650000@www.samaa.org.za
SUMMARY:LSA KZN
DESCRIPTION:
URL:https://www.samaa.org.za/event/lsa-kzn-4/
END:VEVENT
BEGIN:VEVENT
DTSTART;TZID=Europe/Helsinki:20230723T080000
DTEND;TZID=Europe/Helsinki:20230723T170000
DTSTAMP:20260421T193212
CREATED:20230206T100317Z
LAST-MODIFIED:20230206T100318Z
UID:5923-1690099200-1690131600@www.samaa.org.za
SUMMARY:LSA Gauteng
DESCRIPTION:
URL:https://www.samaa.org.za/event/lsa-gauteng-3/
END:VEVENT
BEGIN:VEVENT
DTSTART;TZID=Europe/Helsinki:20230709T080000
DTEND;TZID=Europe/Helsinki:20230709T170000
DTSTAMP:20260421T193212
CREATED:20230314T084604Z
LAST-MODIFIED:20230314T084605Z
UID:6051-1688889600-1688922000@www.samaa.org.za
SUMMARY:CLASA - 3rd Team Trail & Roston Dugmore Memorial
DESCRIPTION:Barnstormers Model Flying Club
URL:https://www.samaa.org.za/event/clasa-3rd-team-trail-roston-dugmore-memorial/
END:VEVENT
BEGIN:VEVENT
DTSTART;TZID=Europe/Helsinki:20230625T080000
DTEND;TZID=Europe/Helsinki:20230625T170000
DTSTAMP:20260421T193212
CREATED:20230314T084302Z
LAST-MODIFIED:20230314T084304Z
UID:6047-1687680000-1687712400@www.samaa.org.za
SUMMARY:CLASA
DESCRIPTION:Barnstormers Model Flying Club
URL:https://www.samaa.org.za/event/clasa-3/
END:VEVENT
BEGIN:VEVENT
DTSTART;TZID=Europe/Helsinki:20230625T080000
DTEND;TZID=Europe/Helsinki:20230625T170000
DTSTAMP:20260421T193212
CREATED:20230206T100233Z
LAST-MODIFIED:20230206T100235Z
UID:5921-1687680000-1687712400@www.samaa.org.za
SUMMARY:MAASA
DESCRIPTION:
URL:https://www.samaa.org.za/event/maasa-4/
END:VEVENT
BEGIN:VEVENT
DTSTART;TZID=Europe/Helsinki:20230624T080000
DTEND;TZID=Europe/Helsinki:20230624T170000
DTSTAMP:20260421T193212
CREATED:20230206T100206Z
LAST-MODIFIED:20230206T100207Z
UID:5919-1687593600-1687626000@www.samaa.org.za
SUMMARY:LSA KZN
DESCRIPTION:
URL:https://www.samaa.org.za/event/lsa-kzn-3/
END:VEVENT
BEGIN:VEVENT
DTSTART;TZID=Europe/Helsinki:20230618T080000
DTEND;TZID=Europe/Helsinki:20230618T170000
DTSTAMP:20260421T193212
CREATED:20230206T100133Z
LAST-MODIFIED:20230206T100137Z
UID:5916-1687075200-1687107600@www.samaa.org.za
SUMMARY:LSA Gauteng
DESCRIPTION:
URL:https://www.samaa.org.za/event/lsa-gauteng-2/
END:VEVENT
BEGIN:VEVENT
DTSTART;TZID=Europe/Helsinki:20230610T080000
DTEND;TZID=Europe/Helsinki:20230610T170000
DTSTAMP:20260421T193212
CREATED:20230206T100054Z
LAST-MODIFIED:20230206T100055Z
UID:5914-1686384000-1686416400@www.samaa.org.za
SUMMARY:Pylon Racing
DESCRIPTION:
URL:https://www.samaa.org.za/event/pylon-racing/
END:VEVENT
BEGIN:VEVENT
DTSTART;TZID=Europe/Helsinki:20230601T080000
DTEND;TZID=Europe/Helsinki:20230604T170000
DTSTAMP:20260421T193212
CREATED:20230206T095940Z
LAST-MODIFIED:20230206T095945Z
UID:5912-1685606400-1685898000@www.samaa.org.za
SUMMARY:SAMJA
DESCRIPTION:Welkom Model Aircraft Club
URL:https://www.samaa.org.za/event/samja-2/
END:VEVENT
END:VCALENDAR