BEGIN:VCALENDAR
VERSION:2.0
PRODID:-//SAMAA - ECPv6.15.17.1//NONSGML v1.0//EN
CALSCALE:GREGORIAN
METHOD:PUBLISH
X-ORIGINAL-URL:https://www.samaa.org.za
X-WR-CALDESC:Events for SAMAA
REFRESH-INTERVAL;VALUE=DURATION:PT1H
X-Robots-Tag:noindex
X-PUBLISHED-TTL:PT1H
BEGIN:VTIMEZONE
TZID:Europe/Helsinki
BEGIN:DAYLIGHT
TZOFFSETFROM:+0200
TZOFFSETTO:+0300
TZNAME:EEST
DTSTART:20250330T010000
END:DAYLIGHT
BEGIN:STANDARD
TZOFFSETFROM:+0300
TZOFFSETTO:+0200
TZNAME:EET
DTSTART:20251026T010000
END:STANDARD
BEGIN:DAYLIGHT
TZOFFSETFROM:+0200
TZOFFSETTO:+0300
TZNAME:EEST
DTSTART:20260329T010000
END:DAYLIGHT
BEGIN:STANDARD
TZOFFSETFROM:+0300
TZOFFSETTO:+0200
TZNAME:EET
DTSTART:20261025T010000
END:STANDARD
BEGIN:DAYLIGHT
TZOFFSETFROM:+0200
TZOFFSETTO:+0300
TZNAME:EEST
DTSTART:20270328T010000
END:DAYLIGHT
BEGIN:STANDARD
TZOFFSETFROM:+0300
TZOFFSETTO:+0200
TZNAME:EET
DTSTART:20271031T010000
END:STANDARD
END:VTIMEZONE
BEGIN:VEVENT
DTSTART;TZID=Europe/Helsinki:20261003T080000
DTEND;TZID=Europe/Helsinki:20261004T170000
DTSTAMP:20260421T031728
CREATED:20251121T121524Z
LAST-MODIFIED:20251121T121525Z
UID:8507-1791014400-1791133200@www.samaa.org.za
SUMMARY:CLASA - Ringmaster Fly-a-thon
DESCRIPTION:
URL:https://www.samaa.org.za/event/clasa-ringmaster-fly-a-thon/
LOCATION:Barnstormers Model Flying Club\, Kempton Park
END:VEVENT
BEGIN:VEVENT
DTSTART;TZID=Europe/Helsinki:20261004T080000
DTEND;TZID=Europe/Helsinki:20261004T170000
DTSTAMP:20260421T031728
CREATED:20260112T095521Z
LAST-MODIFIED:20260112T095630Z
UID:8560-1791100800-1791133200@www.samaa.org.za
SUMMARY:RMAC Scale Day
DESCRIPTION:Contact Dion van Rooyen – dionvr@outlook.com or 082-905-7040
URL:https://www.samaa.org.za/event/rmac-scale-day-2/
LOCATION:Rand Model Aeronautic Club – South Johannesburg
END:VEVENT
BEGIN:VEVENT
DTSTART;TZID=Europe/Helsinki:20261018T080000
DTEND;TZID=Europe/Helsinki:20261018T170000
DTSTAMP:20260421T031728
CREATED:20260210T080809Z
LAST-MODIFIED:20260210T080809Z
UID:8627-1792310400-1792342800@www.samaa.org.za
SUMMARY:WPMAA (MAASA) - WC Year End
DESCRIPTION:Venue: WARFContact: Stuart Nix – westerncape@maasa.co.za
URL:https://www.samaa.org.za/event/wpmaa-maasa-wc-year-end/
END:VEVENT
BEGIN:VEVENT
DTSTART;TZID=Europe/Helsinki:20261031T080000
DTEND;TZID=Europe/Helsinki:20261101T170000
DTSTAMP:20260421T031728
CREATED:20260210T075709Z
LAST-MODIFIED:20260210T075709Z
UID:8609-1793433600-1793552400@www.samaa.org.za
SUMMARY:Gauteng Aerobatics Association (MAASA) - Masters
DESCRIPTION:Venue : TBCContact: Rui Martins – chairman@maasa.co.za
URL:https://www.samaa.org.za/event/gauteng-aerobatics-association-maasa-masters/
END:VEVENT
BEGIN:VEVENT
DTSTART;TZID=Europe/Helsinki:20261031T080000
DTEND;TZID=Europe/Helsinki:20261101T170000
DTSTAMP:20260421T031728
CREATED:20260210T080902Z
LAST-MODIFIED:20260210T080904Z
UID:8629-1793433600-1793552400@www.samaa.org.za
SUMMARY:WPMAA (MAASA) - Masters
DESCRIPTION:Venue: TBCContact: Stuart Nix – westerncape@maasa.co.za
URL:https://www.samaa.org.za/event/wpmaa-maasa-masters/
END:VEVENT
BEGIN:VEVENT
DTSTART;TZID=Europe/Helsinki:20261107T080000
DTEND;TZID=Europe/Helsinki:20261107T170000
DTSTAMP:20260421T031728
CREATED:20260113T115727Z
LAST-MODIFIED:20260113T115728Z
UID:8568-1794038400-1794070800@www.samaa.org.za
SUMMARY:Pylon Racing
DESCRIPTION:Contact Dion Van Rooyen – dionvr@outlook.com – 082-905-7040
URL:https://www.samaa.org.za/event/pylon-racing-6/
LOCATION:Rand Model Aeronautic Club – South Johannesburg
END:VEVENT
BEGIN:VEVENT
DTSTART;TZID=Europe/Helsinki:20261114T080000
DTEND;TZID=Europe/Helsinki:20261114T170000
DTSTAMP:20260421T031728
CREATED:20251121T121601Z
LAST-MODIFIED:20251121T121602Z
UID:8509-1794643200-1794675600@www.samaa.org.za
SUMMARY:CLASA - Roston Dugmore Day
DESCRIPTION:
URL:https://www.samaa.org.za/event/clasa-roston-dugmore-day/
LOCATION:Barnstormers Model Flying Club\, Kempton Park
END:VEVENT
BEGIN:VEVENT
DTSTART;TZID=Europe/Helsinki:20261121T090000
DTEND;TZID=Europe/Helsinki:20261121T130000
DTSTAMP:20260421T031728
CREATED:20260119T102844Z
LAST-MODIFIED:20260119T102845Z
UID:8573-1795251600-1795266000@www.samaa.org.za
SUMMARY:SAMAA Year-End Function
DESCRIPTION:Year-end Swop\, Sell & BuyContact Linda – admin@samaa.org.za or 072-933-5802
URL:https://www.samaa.org.za/event/samaa-year-end-function-2/
LOCATION:SAMAA Interactive Centre\, Shop 2\, Parkdene Shopping Centre\, 30 Lancaster Road\, Parkdene\, Boksburg\, Gauteng\, 1459\, South Africa
END:VEVENT
END:VCALENDAR