BEGIN:VCALENDAR
VERSION:2.0
PRODID:-//SAMAA - ECPv6.15.17.1//NONSGML v1.0//EN
CALSCALE:GREGORIAN
METHOD:PUBLISH
X-WR-CALNAME:SAMAA
X-ORIGINAL-URL:https://www.samaa.org.za
X-WR-CALDESC:Events for SAMAA
REFRESH-INTERVAL;VALUE=DURATION:PT1H
X-Robots-Tag:noindex
X-PUBLISHED-TTL:PT1H
BEGIN:VTIMEZONE
TZID:Europe/Helsinki
BEGIN:DAYLIGHT
TZOFFSETFROM:+0200
TZOFFSETTO:+0300
TZNAME:EEST
DTSTART:20240331T010000
END:DAYLIGHT
BEGIN:STANDARD
TZOFFSETFROM:+0300
TZOFFSETTO:+0200
TZNAME:EET
DTSTART:20241027T010000
END:STANDARD
BEGIN:DAYLIGHT
TZOFFSETFROM:+0200
TZOFFSETTO:+0300
TZNAME:EEST
DTSTART:20250330T010000
END:DAYLIGHT
BEGIN:STANDARD
TZOFFSETFROM:+0300
TZOFFSETTO:+0200
TZNAME:EET
DTSTART:20251026T010000
END:STANDARD
BEGIN:DAYLIGHT
TZOFFSETFROM:+0200
TZOFFSETTO:+0300
TZNAME:EEST
DTSTART:20260329T010000
END:DAYLIGHT
BEGIN:STANDARD
TZOFFSETFROM:+0300
TZOFFSETTO:+0200
TZNAME:EET
DTSTART:20261025T010000
END:STANDARD
END:VTIMEZONE
BEGIN:VEVENT
DTSTART;TZID=Europe/Helsinki:20250425T080000
DTEND;TZID=Europe/Helsinki:20250428T170000
DTSTAMP:20260423T005019
CREATED:20250123T065004Z
LAST-MODIFIED:20250123T065005Z
UID:7529-1745568000-1745859600@www.samaa.org.za
SUMMARY:CLASA - Nationals - Team Trail 2 - CLASA AGM
DESCRIPTION:Gariep Airfield
URL:https://www.samaa.org.za/event/clasa-nationals-team-trail-2-clasa-agm/
END:VEVENT
END:VCALENDAR