BEGIN:VCALENDAR
VERSION:2.0
PRODID:-//SAMAA - ECPv6.15.17.1//NONSGML v1.0//EN
CALSCALE:GREGORIAN
METHOD:PUBLISH
X-ORIGINAL-URL:https://www.samaa.org.za
X-WR-CALDESC:Events for SAMAA
REFRESH-INTERVAL;VALUE=DURATION:PT1H
X-Robots-Tag:noindex
X-PUBLISHED-TTL:PT1H
BEGIN:VTIMEZONE
TZID:Europe/Helsinki
BEGIN:DAYLIGHT
TZOFFSETFROM:+0200
TZOFFSETTO:+0300
TZNAME:EEST
DTSTART:20240331T010000
END:DAYLIGHT
BEGIN:STANDARD
TZOFFSETFROM:+0300
TZOFFSETTO:+0200
TZNAME:EET
DTSTART:20241027T010000
END:STANDARD
BEGIN:DAYLIGHT
TZOFFSETFROM:+0200
TZOFFSETTO:+0300
TZNAME:EEST
DTSTART:20250330T010000
END:DAYLIGHT
BEGIN:STANDARD
TZOFFSETFROM:+0300
TZOFFSETTO:+0200
TZNAME:EET
DTSTART:20251026T010000
END:STANDARD
BEGIN:DAYLIGHT
TZOFFSETFROM:+0200
TZOFFSETTO:+0300
TZNAME:EEST
DTSTART:20260329T010000
END:DAYLIGHT
BEGIN:STANDARD
TZOFFSETFROM:+0300
TZOFFSETTO:+0200
TZNAME:EET
DTSTART:20261025T010000
END:STANDARD
END:VTIMEZONE
BEGIN:VEVENT
DTSTART;TZID=Europe/Helsinki:20250420T080000
DTEND;TZID=Europe/Helsinki:20250420T170000
DTSTAMP:20260422T201443
CREATED:20241218T065155Z
LAST-MODIFIED:20241218T065156Z
UID:7383-1745136000-1745168400@www.samaa.org.za
SUMMARY:MGA - F3K Team Practice
DESCRIPTION:Greenfields Eastern Model Soarers
URL:https://www.samaa.org.za/event/mga-f3k-team-practice-5/
END:VEVENT
BEGIN:VEVENT
DTSTART;TZID=Europe/Helsinki:20250420T080000
DTEND;TZID=Europe/Helsinki:20250420T170000
DTSTAMP:20260422T201443
CREATED:20250107T073030Z
LAST-MODIFIED:20250107T073031Z
UID:7476-1745136000-1745168400@www.samaa.org.za
SUMMARY:MAASA - Western Cape - Clinic
DESCRIPTION:Stellenbosch Model Aircraft Academy
URL:https://www.samaa.org.za/event/maasa-western-cape-clinic/
END:VEVENT
END:VCALENDAR