BEGIN:VCALENDAR
VERSION:2.0
PRODID:-//SAMAA - ECPv6.15.17.1//NONSGML v1.0//EN
CALSCALE:GREGORIAN
METHOD:PUBLISH
X-WR-CALNAME:SAMAA
X-ORIGINAL-URL:https://www.samaa.org.za
X-WR-CALDESC:Events for SAMAA
REFRESH-INTERVAL;VALUE=DURATION:PT1H
X-Robots-Tag:noindex
X-PUBLISHED-TTL:PT1H
BEGIN:VTIMEZONE
TZID:Europe/Helsinki
BEGIN:DAYLIGHT
TZOFFSETFROM:+0200
TZOFFSETTO:+0300
TZNAME:EEST
DTSTART:20240331T010000
END:DAYLIGHT
BEGIN:STANDARD
TZOFFSETFROM:+0300
TZOFFSETTO:+0200
TZNAME:EET
DTSTART:20241027T010000
END:STANDARD
BEGIN:DAYLIGHT
TZOFFSETFROM:+0200
TZOFFSETTO:+0300
TZNAME:EEST
DTSTART:20250330T010000
END:DAYLIGHT
BEGIN:STANDARD
TZOFFSETFROM:+0300
TZOFFSETTO:+0200
TZNAME:EET
DTSTART:20251026T010000
END:STANDARD
BEGIN:DAYLIGHT
TZOFFSETFROM:+0200
TZOFFSETTO:+0300
TZNAME:EEST
DTSTART:20260329T010000
END:DAYLIGHT
BEGIN:STANDARD
TZOFFSETFROM:+0300
TZOFFSETTO:+0200
TZNAME:EET
DTSTART:20261025T010000
END:STANDARD
END:VTIMEZONE
BEGIN:VEVENT
DTSTART;TZID=Europe/Helsinki:20250228T080000
DTEND;TZID=Europe/Helsinki:20250302T170000
DTSTAMP:20260422T102035
CREATED:20250122T095530Z
LAST-MODIFIED:20250122T095531Z
UID:7517-1740729600-1740934800@www.samaa.org.za
SUMMARY:Top Gun 2025
DESCRIPTION:Pretoria Military Radio Control Flying Club (old Zwartkop AFB)
URL:https://www.samaa.org.za/event/top-gun-2025/
ORGANIZER;CN="Dean Grobbelaar":MAILTO:dean@aerialconcepts.co.za
END:VEVENT
BEGIN:VEVENT
DTSTART;TZID=Europe/Helsinki:20250301T080000
DTEND;TZID=Europe/Helsinki:20250302T170000
DTSTAMP:20260422T102035
CREATED:20250206T082910Z
LAST-MODIFIED:20250206T082911Z
UID:7601-1740816000-1740934800@www.samaa.org.za
SUMMARY:Kimberley Model Aircraft Club Fly-in
DESCRIPTION:Contact Tjaart van der Walt : 082-941-2341
URL:https://www.samaa.org.za/event/kimberley-model-aircraft-club-fly-in/
END:VEVENT
END:VCALENDAR