BEGIN:VCALENDAR
VERSION:2.0
PRODID:-//SAMAA - ECPv6.15.17.1//NONSGML v1.0//EN
CALSCALE:GREGORIAN
METHOD:PUBLISH
X-ORIGINAL-URL:https://www.samaa.org.za
X-WR-CALDESC:Events for SAMAA
REFRESH-INTERVAL;VALUE=DURATION:PT1H
X-Robots-Tag:noindex
X-PUBLISHED-TTL:PT1H
BEGIN:VTIMEZONE
TZID:Europe/Helsinki
BEGIN:DAYLIGHT
TZOFFSETFROM:+0200
TZOFFSETTO:+0300
TZNAME:EEST
DTSTART:20240331T010000
END:DAYLIGHT
BEGIN:STANDARD
TZOFFSETFROM:+0300
TZOFFSETTO:+0200
TZNAME:EET
DTSTART:20241027T010000
END:STANDARD
BEGIN:DAYLIGHT
TZOFFSETFROM:+0200
TZOFFSETTO:+0300
TZNAME:EEST
DTSTART:20250330T010000
END:DAYLIGHT
BEGIN:STANDARD
TZOFFSETFROM:+0300
TZOFFSETTO:+0200
TZNAME:EET
DTSTART:20251026T010000
END:STANDARD
BEGIN:DAYLIGHT
TZOFFSETFROM:+0200
TZOFFSETTO:+0300
TZNAME:EEST
DTSTART:20260329T010000
END:DAYLIGHT
BEGIN:STANDARD
TZOFFSETFROM:+0300
TZOFFSETTO:+0200
TZNAME:EET
DTSTART:20261025T010000
END:STANDARD
END:VTIMEZONE
BEGIN:VEVENT
DTSTART;TZID=Europe/Helsinki:20250222T080000
DTEND;TZID=Europe/Helsinki:20250223T170000
DTSTAMP:20260422T103708
CREATED:20241218T064451Z
LAST-MODIFIED:20241218T064451Z
UID:7369-1740211200-1740330000@www.samaa.org.za
SUMMARY:MGA - Postals - F3K TP Postals
DESCRIPTION:Greenfields Eastern Model Soarers
URL:https://www.samaa.org.za/event/mga-postals-f3k-tp-postals-2/
END:VEVENT
BEGIN:VEVENT
DTSTART;TZID=Europe/Helsinki:20250222T080000
DTEND;TZID=Europe/Helsinki:20250222T170000
DTSTAMP:20260422T103708
CREATED:20250123T071032Z
LAST-MODIFIED:20250123T071104Z
UID:7559-1740211200-1740243600@www.samaa.org.za
SUMMARY:2025 SAMAA Provincial Combined Fly-in
DESCRIPTION:Wolwefontein Flyers (Mpumalanga)Stellenbosch Model Aircraft Academy (Western Cape)Durban Model Aircraft Club (Kwa-Zulu Natal)
URL:https://www.samaa.org.za/event/2025-samaa-provincial-combined-fly-in/
END:VEVENT
END:VCALENDAR