BEGIN:VCALENDAR
VERSION:2.0
PRODID:-//SAMAA - ECPv6.15.17.1//NONSGML v1.0//EN
CALSCALE:GREGORIAN
METHOD:PUBLISH
X-WR-CALNAME:SAMAA
X-ORIGINAL-URL:https://www.samaa.org.za
X-WR-CALDESC:Events for SAMAA
REFRESH-INTERVAL;VALUE=DURATION:PT1H
X-Robots-Tag:noindex
X-PUBLISHED-TTL:PT1H
BEGIN:VTIMEZONE
TZID:Europe/Helsinki
BEGIN:DAYLIGHT
TZOFFSETFROM:+0200
TZOFFSETTO:+0300
TZNAME:EEST
DTSTART:20230326T010000
END:DAYLIGHT
BEGIN:STANDARD
TZOFFSETFROM:+0300
TZOFFSETTO:+0200
TZNAME:EET
DTSTART:20231029T010000
END:STANDARD
BEGIN:DAYLIGHT
TZOFFSETFROM:+0200
TZOFFSETTO:+0300
TZNAME:EEST
DTSTART:20240331T010000
END:DAYLIGHT
BEGIN:STANDARD
TZOFFSETFROM:+0300
TZOFFSETTO:+0200
TZNAME:EET
DTSTART:20241027T010000
END:STANDARD
BEGIN:DAYLIGHT
TZOFFSETFROM:+0200
TZOFFSETTO:+0300
TZNAME:EEST
DTSTART:20250330T010000
END:DAYLIGHT
BEGIN:STANDARD
TZOFFSETFROM:+0300
TZOFFSETTO:+0200
TZNAME:EET
DTSTART:20251026T010000
END:STANDARD
END:VTIMEZONE
BEGIN:VEVENT
DTSTART;TZID=Europe/Helsinki:20241027T080000
DTEND;TZID=Europe/Helsinki:20241027T170000
DTSTAMP:20260421T231940
CREATED:20240319T112259Z
LAST-MODIFIED:20240319T112300Z
UID:6497-1730016000-1730048400@www.samaa.org.za
SUMMARY:Sunday Club Fun Fly (CLASA)
DESCRIPTION:
URL:https://www.samaa.org.za/event/sunday-club-fun-fly-clasa/
END:VEVENT
BEGIN:VEVENT
DTSTART;TZID=Europe/Helsinki:20241027T080000
DTEND;TZID=Europe/Helsinki:20241027T170000
DTSTAMP:20260421T231940
CREATED:20240604T061839Z
LAST-MODIFIED:20240604T061841Z
UID:6567-1730016000-1730048400@www.samaa.org.za
SUMMARY:Delta Day @ Barnstormers MFC
DESCRIPTION:
URL:https://www.samaa.org.za/event/delta-day-barnstormers-mfc/
END:VEVENT
END:VCALENDAR