BEGIN:VCALENDAR
VERSION:2.0
PRODID:-//SAMAA - ECPv6.15.17.1//NONSGML v1.0//EN
CALSCALE:GREGORIAN
METHOD:PUBLISH
X-WR-CALNAME:SAMAA
X-ORIGINAL-URL:https://www.samaa.org.za
X-WR-CALDESC:Events for SAMAA
REFRESH-INTERVAL;VALUE=DURATION:PT1H
X-Robots-Tag:noindex
X-PUBLISHED-TTL:PT1H
BEGIN:VTIMEZONE
TZID:Europe/Helsinki
BEGIN:DAYLIGHT
TZOFFSETFROM:+0200
TZOFFSETTO:+0300
TZNAME:EEST
DTSTART:20230326T010000
END:DAYLIGHT
BEGIN:STANDARD
TZOFFSETFROM:+0300
TZOFFSETTO:+0200
TZNAME:EET
DTSTART:20231029T010000
END:STANDARD
BEGIN:DAYLIGHT
TZOFFSETFROM:+0200
TZOFFSETTO:+0300
TZNAME:EEST
DTSTART:20240331T010000
END:DAYLIGHT
BEGIN:STANDARD
TZOFFSETFROM:+0300
TZOFFSETTO:+0200
TZNAME:EET
DTSTART:20241027T010000
END:STANDARD
BEGIN:DAYLIGHT
TZOFFSETFROM:+0200
TZOFFSETTO:+0300
TZNAME:EEST
DTSTART:20250330T010000
END:DAYLIGHT
BEGIN:STANDARD
TZOFFSETFROM:+0300
TZOFFSETTO:+0200
TZNAME:EET
DTSTART:20251026T010000
END:STANDARD
END:VTIMEZONE
BEGIN:VEVENT
DTSTART;TZID=Europe/Helsinki:20241006T080000
DTEND;TZID=Europe/Helsinki:20241006T170000
DTSTAMP:20260421T164618
CREATED:20240604T061733Z
LAST-MODIFIED:20240830T121953Z
UID:6565-1728201600-1728234000@www.samaa.org.za
SUMMARY:Chairmans Challenge @ Barnstormers MFC
DESCRIPTION:
URL:https://www.samaa.org.za/event/chairmans-challenge-barnstormers-mfc/
END:VEVENT
BEGIN:VEVENT
DTSTART;TZID=Europe/Helsinki:20241006T080000
DTEND;TZID=Europe/Helsinki:20241006T170000
DTSTAMP:20260421T164618
CREATED:20240930T085917Z
LAST-MODIFIED:20240930T085918Z
UID:7296-1728201600-1728234000@www.samaa.org.za
SUMMARY:MMAC Boot Sale Day
DESCRIPTION:Contact Johan on 082-202-4163
URL:https://www.samaa.org.za/event/mmac-boot-sale-day/
END:VEVENT
END:VCALENDAR